BEGIN:VCALENDAR
VERSION:2.0
PRODID:-//ChamberMaster//Event Calendar 2.0//EN
METHOD:PUBLISH
X-PUBLISHED-TTL:P3D
REFRESH-INTERVAL:P3D
CALSCALE:GREGORIAN
BEGIN:VEVENT
DTSTART:20190915T160000Z
DTEND:20190915T160000Z
X-MICROSOFT-CDO-ALLDAYEVENT:FALSE
SUMMARY:Flag Changing Ceremony
DESCRIPTION:The American Legion Post 739 and VFW Post 6534 Highland organize and present monthly Flag Changing Ceremonies on the Walkway to honor our region's veterans and their service to our country. These events are open to all who wish to attend. Organized
X-ALT-DESC;FMTTYPE=text/html:The American Legion Post 739 and VFW Post 6534 Highland organize and present monthly Flag Changing Ceremonies on the Walkway to honor our region&rsquo\;s veterans and their service to our country. These events are open to all who wish to attend. Organized
LOCATION:Center Overlook of the Walkway Over the Hudson State Historic Park
UID:e.2770.10480616
SEQUENCE:3
DTSTAMP:20260422T215600Z
URL:https://business.dcrcoc.org/events/details/flag-changing-ceremony-09-15-2019-10480616
END:VEVENT

END:VCALENDAR
