BEGIN:VCALENDAR
VERSION:2.0
PRODID:-//ChamberMaster//Event Calendar 2.0//EN
METHOD:PUBLISH
X-PUBLISHED-TTL:P3D
REFRESH-INTERVAL:P3D
CALSCALE:GREGORIAN
BEGIN:VEVENT
DTSTART:20191215T170000Z
DTEND:20191215T170000Z
X-MICROSOFT-CDO-ALLDAYEVENT:FALSE
SUMMARY:Flag Changing Ceremony
DESCRIPTION:The American Legion Post 739 and VFW Post 6534 Highland organize and present monthly Flag Changing Ceremonies on the Walkway to honor our region's veterans and their service to our country. These events are open to all who wish to attend.
X-ALT-DESC;FMTTYPE=text/html:The American Legion Post 739 and VFW Post 6534 Highland organize and present monthly Flag Changing Ceremonies on the Walkway to honor our region&rsquo\;s veterans and their service to our country. These events are open to all who wish to attend.
LOCATION:American Legion Post 739 and VFW Post 6534 Highland
UID:e.2770.10480619
SEQUENCE:3
DTSTAMP:20260422T151712Z
URL:https://business.dcrcoc.org/events/details/flag-changing-ceremony-12-15-2019-10480619
END:VEVENT

END:VCALENDAR
