BEGIN:VCALENDAR
VERSION:2.0
PRODID:-//ChamberMaster//Event Calendar 2.0//EN
METHOD:PUBLISH
X-PUBLISHED-TTL:P3D
REFRESH-INTERVAL:P3D
CALSCALE:GREGORIAN
BEGIN:VEVENT
DTSTART:20170817T224500Z
DTEND:20171015T160000Z
X-MICROSOFT-CDO-ALLDAYEVENT:FALSE
SUMMARY:Fleet Feet Poughkeepsie No Boundaries 5K Training Program
DESCRIPTION:The Fleet Feet Poughkeepsie No Boundaries 5k training program is an 8 week coach-led program was designed for those with little to no running experience but is also great for someone looking to get back into running after an injury or break. We will be training as a group/team for the Rhinebeck Fall Foliage 5k race on Sunday\, October 15th. This program is friendly for all levels including walkers.
X-ALT-DESC;FMTTYPE=text/html:The Fleet Feet Poughkeepsie No Boundaries 5k training program is an 8 week coach-led program was designed for those with little to no running experience but is also great for someone looking to get back into running after an injury or break. We will be training as a group/team for the Rhinebeck Fall Foliage 5k race on Sunday\, October 15th. This program is friendly for all levels including walkers.
LOCATION:
UID:e.2770.10476079
SEQUENCE:3
DTSTAMP:20260426T033137Z
URL:https://business.dcrcoc.org/events/details/fleet-feet-poughkeepsie-no-boundaries-5k-training-program-10476079
END:VEVENT

END:VCALENDAR
