BEGIN:VCALENDAR
VERSION:2.0
PRODID:-//ChamberMaster//Event Calendar 2.0//EN
METHOD:PUBLISH
X-PUBLISHED-TTL:P3D
REFRESH-INTERVAL:P3D
CALSCALE:GREGORIAN
BEGIN:VEVENT
DTSTART:20191214T170000Z
DTEND:20191214T200000Z
X-MICROSOFT-CDO-ALLDAYEVENT:FALSE
SUMMARY:Foam and Wash Santa Paws
DESCRIPTION:Pictures with Santa and Foamy on Saturday December 14th for our "Santa Paws" event from 12- 3 pm!\n\n\n\nCome see how we turned the Car Wash Bay into a Winter wonderland. Dress your Kids and Pups up in their best festive gear for photos with Santa & Foamy.  Plus\, Enjoy Hot Chocolate\, Cookies\, games\, Holiday Crafts and Face painting too and don't forget our Wheel of Prizes and Raffles too!!\n\n\n\nOur friends from Compassionate Animal Rescue Efforts of Dutchess County Care of DC will be bringing some adorable Puppies looking for the their furever homes!
X-ALT-DESC;FMTTYPE=text/html:<span style="font-size:14px"><span style="color:#008000">Pictures with </span><span style="color:#FF0000">Santa</span><span style="color:#008000"> and </span><span style="color:#FF0000">Foamy</span><span style="color:#008000"> on Saturday December 14th for our &quot\;</span><span style="color:#FF0000">Santa Paws</span><span style="color:#008000">&quot\; event from 12- 3 pm!<br />\n<br />\nCome see how we turned the Car Wash Bay into a Winter wonderland. Dress your Kids and Pups up in their best festive gear for photos with </span><span style="color:#FF0000">Santa</span> &amp\; Foamy.&nbsp\; Plus\, Enjoy Hot Chocolate\, Cookies\, games\, Holiday Crafts and Face painting too and don&#39\;t forget our Wheel of Prizes and Raffles too!!<br />\n<br />\nOur friends from <span style="color:#FF0000"><em>Compassionate Animal Rescue Efforts of Dutchess County Care of DC</em> </span><span style="color:#008000">will be bringing some adorable Puppies looking for the their furever homes!</span></span>
LOCATION:Foam and Wash Car Wash 1520 Route 9 Wappingers Falls NY 12590 Next to the (Outback Steakhouse)
UID:e.2770.10482596
SEQUENCE:3
DTSTAMP:20260422T154045Z
URL:https://business.dcrcoc.org/events/details/foam-and-wash-santa-paws-10482596
END:VEVENT

END:VCALENDAR
