BEGIN:VCALENDAR
VERSION:2.0
PRODID:-//ChamberMaster//Event Calendar 2.0//EN
METHOD:PUBLISH
X-PUBLISHED-TTL:P3D
REFRESH-INTERVAL:P3D
CALSCALE:GREGORIAN
BEGIN:VEVENT
DTSTART:20190517T213000Z
DTEND:20190518T003000Z
X-MICROSOFT-CDO-ALLDAYEVENT:FALSE
SUMMARY:Forage and Feast Workshop
DESCRIPTION:Join ethnobiologist and functional herbalist Hayden Stebbins for a walk through our farm fields and gardens to see the world in a way most people have only recently forgotten. During this walk\, we will learn about common introduced and native plants\, how to identify them by family\, and their edible\, medicinal\, or poisonous properties. Participants will harvest edible plants along the walk to prepare a multi-course meal combining the harvest with regular food. This will include a wild plant pesto\, hummus\, a couple of teas and an extra dish depending on what plants and mushrooms are found. When: May 17th\, 5:30-8:30pm\; May 20th\, 5:30-8:30pm (same program\, choose one date) Fee: $35 (nonmembers)\, $30 (PFP members). Registration Required.
X-ALT-DESC;FMTTYPE=text/html:Join ethnobiologist and functional herbalist Hayden Stebbins for a walk through our farm fields and gardens to see the world in a way most people have only recently forgotten. During this walk\, we will learn about common introduced and native plants\, how to identify them by family\, and their edible\, medicinal\, or poisonous properties. Participants will harvest edible plants along the walk to prepare a multi-course meal combining the harvest with regular food. This will include a wild plant pesto\, hummus\, a couple of teas and an extra dish depending on what plants and mushrooms are found. When: May 17th\, 5:30-8:30pm\; May 20th\, 5:30-8:30pm (same program\, choose one date) Fee: $35 (nonmembers)\, $30 (PFP members). Registration Required.
LOCATION:Poughkeepsie Farm Project 51 Vassar Farm Lane Poughkeepsie\, NY 12603
UID:e.2770.10480716
SEQUENCE:3
DTSTAMP:20260423T044319Z
URL:https://business.dcrcoc.org/events/details/forage-and-feast-workshop-10480716
END:VEVENT

END:VCALENDAR
