BEGIN:VCALENDAR
VERSION:2.0
PRODID:-//ChamberMaster//Event Calendar 2.0//EN
METHOD:PUBLISH
X-PUBLISHED-TTL:P3D
REFRESH-INTERVAL:P3D
CALSCALE:GREGORIAN
BEGIN:VEVENT
DTSTART:20180405T210000Z
DTEND:20180406T003000Z
X-MICROSOFT-CDO-ALLDAYEVENT:FALSE
SUMMARY:Forty Under 40 Mover & Shaker Awards
DESCRIPTION:The Dutchess County Regional Chamber of Commerce recognizes a talented and diverse group of young professionals in the Hudson Valley as the top Forty Under 40. Bestowed annually to 40 people under the age of 40 who have shown a strong commitment to the Hudson Valley\, the Shaker Awards honor the next generation of leaders in our region.\n\n\n\nMain event sponsors: N&S Supply\, Rhinebeck Bank\n\n\n\nMover & Shaker Sponsors: 40 Cannon\, CareMount Medical\, Central Hudson Gas & Electric Corp.Hudson Valley Federal Credit Union\, Judelson\, Giordano and Siegal\, CPA\, PC\, Key Construction Services\, Mackey\, Butts and Wise\, LLP\, Marshall and Sterling Insurance\, RBT CPAs LLP\, Rose & Kiernan\, Inc.\, ServiceMaster Restore dba Nest Restoration Services\, S & O Construction Services\, Inc.\, TD Bank\, Tompkins Mahopac Bank\n\n\n\nProfile Sponsor: Hudson Cadillac Buick GMC\n\n\n\nMedia Sponsor: HVNN.com\n\nAward Sponsor: De'S Jewelers
X-ALT-DESC;FMTTYPE=text/html:<p><span style="font-size: 14px\;"><span style="font-family: arial\;">The Dutchess County Regional Chamber of Commerce recognizes a talented and diverse group of young professionals in the Hudson Valley as the top Forty Under 40.&nbsp\;Bestowed annually to 40 people under the age of 40 who have shown a strong commitment to the Hudson Valley\, the Shaker Awards honor the next generation of leaders in our region.<br />\n<br />\nMain event sponsors:&nbsp\;</span></span><a href="http://www.nssupply.com/" style="font-family: arial\; font-size: 14px\;">N&amp\;S Supply</a>\,&nbsp\;<a href="http://www.rhinebeckbank.com/" style="font-family: arial\; font-size: 14px\;">Rhinebeck&nbsp\;Bank</a><br />\n<br />\n<span style="font-size:14px\;">Mover &amp\; Shaker Sponsors</span>:&nbsp\;<span style="background-image: initial\; background-position: initial\; background-size: initial\; background-repeat: initial\; background-attachment: initial\; background-origin: initial\; background-clip: initial\;"><span style="font-family: arial\;"><span style="font-size: 10.5pt\;"><a href="http://40cannon.com/">40 Cannon</a>\,&nbsp\;<a href="http://www.caremountmedical.com/">CareMount&nbsp\;</a></span></span></span><span style="background-image: initial\; background-position: initial\; background-size: initial\; background-repeat: initial\; background-attachment: initial\; background-origin: initial\; background-clip: initial\;"><span style="font-family: arial\;"><span style="font-size: 10.5pt\;"><a href="http://www.caremountmedical.com/">Medical</a>\,&nbsp\;<a href="https://www.cenhud.com/">Central Hudson Gas &amp\; Electric Corp.</a></span></span></span><a href="http://www.hvfcu.org/" style="font-family: arial\; font-size: 14px\;">Hudson</a><span style="font-family: arial\; font-size: 14px\;"><a href="http://www.hvfcu.org/">&nbsp\;Valley Federal Credit Union</a>\,&nbsp\;</span><a href="http://www.jgspc.com/" style="font-family: arial\; font-size: 14px\;">Judelson\, Giordano and&nbsp\;Siegal\, CPA\, PC</a>\,&nbsp\;<a href="http://keyconstructionservices.com/our_services/interior_specialties.php">Key Construction Services</a>\,&nbsp\;<a href="http://mbwise.com/" style="font-family: arial\; font-size: 14px\;">Mackey\, Butts and Wise\, LLP</a>\,&nbsp\;<a href="http://www.marshallsterling.com/" style="font-family: arial\; font-size: 14px\;">Marshall and Sterling Insurance</a>\, <a href="http://www.rbtcpas.com/" target="_blank">RBT&nbsp\;CPAs LLP</a>\,&nbsp\;<a href="https://www.rkinsurance.com/" target="_blank"><span style="background-image: initial\; background-position: initial\; background-size: initial\; background-repeat: initial\; background-attachment: initial\; background-origin: initial\; background-clip: initial\;"><span style="font-family: arial\;"><span style="font-size: 10.5pt\;">Rose &amp\;&nbsp\;</span></span></span></a><span style="font-family: arial\;"><span style="font-size: 10.5pt\;"><a href="https://www.rkinsurance.com/" target="_blank">Kiernan</a><span style="background-image: initial\; background-position: initial\; background-size: initial\; background-repeat: initial\; background-attachment: initial\; background-origin: initial\; background-clip: initial\;"><a href="https://www.rkinsurance.com/" target="_blank">\, Inc.\,</a>&nbsp\;</span></span></span><a href="http://request.servicemasterrestore.com/pmd/ppc/g/dr/leadform?MarketingPartner=google&amp\;Campaign=CPC&amp\;campaign_phone=855-660-9743&amp\;AdType=CPC&amp\;k_clickid=a7983b8a-38b8-4aa1-be6c-daf0248c5cc7&amp\;gclid=CjwKCAiAn5rUBRA3EiwAUCWb2-ql-QO2xRfyIlWeBxLJoyx_gmljrquSjYm2hOT5DaSvoHovHBbsMBoCFzcQAvD_BwE" style="font-family: arial\; font-size: 14px\;">ServiceMaster Restore&nbsp\;dba&nbsp\;Nest Restoration Services</a>\,&nbsp\;<a href="http://soconserv.com/" style="font-family: arial\; font-size: 14px\;">S &amp\; O Construction Services\, Inc.</a>\, <a href="https://www.tdbank.com/">TD Bank</a>\,&nbsp\;<a href="http://www.mahopacbank.com/" style="font-family: arial\; font-size: 14px\;">Tompkins&nbsp\;Mahopac&nbsp\;Bank</a><br />\n<br />\n<span style="font-size: 14px\;"><span style="font-family: arial\;">Profile Sponsor:&nbsp\;</span></span><span style="background:white\;"><span style="font-family:arial\;"><span style="font-size:10.5pt\;"><a href="http://www.hudsonbuickgmc.com/">Hudson&nbsp\;Cadillac Buick GMC</a></span></span><br />\n<br />\n<span style="font-family:arial\;"><span style="font-size:10.5pt\;">Media Sponsor: <a href="http://hudsonvalleynewsnetwork.com/" target="_blank">HVNN.com</a></span></span></span></p>\n\n<p>Award Sponsor: <a href="http://www.desjewelers.com">De&#39\;S Jewelers</a></p>\n
LOCATION:Cocktail Reception at Poughkeepsie Grand Hotel & Conference Center 40 Civic Center Plaza Poughkeepsie\, NY 12601 Awards Ceremony at Changepoint Theater 260 Mill Street Poughkeepsie\, NY 12601
UID:e.2770.10476428
SEQUENCE:3
DTSTAMP:20260425T194943Z
URL:https://business.dcrcoc.org/events/details/forty-under-40-mover-shaker-awards-10476428
END:VEVENT

END:VCALENDAR
