BEGIN:VCALENDAR
VERSION:2.0
PRODID:-//ChamberMaster//Event Calendar 2.0//EN
METHOD:PUBLISH
X-PUBLISHED-TTL:P3D
REFRESH-INTERVAL:P3D
CALSCALE:GREGORIAN
BEGIN:VEVENT
DTSTART:20190404T210000Z
DTEND:20190405T003000Z
X-MICROSOFT-CDO-ALLDAYEVENT:FALSE
SUMMARY:Forty Under 40 Mover & Shaker Awards
DESCRIPTION:For Reservations\n\nPlease Call (845) 454-1700 Ext. 1000.\n\n\n\nThe Dutchess County Regional Chamber of Commerce recognizes a talented and diverse group of young professionals in the Hudson Valley as the top Forty Under 40. Bestowed annually to 40 people under the age of 40 who have shown a strong commitment to the Hudson Valley\, the Shaker Awards honor the next generation of leaders in our region.\n\n\n	\n		\n			Event Sponsors: \n		\n	\n	\n	\n\n\n\n	\n		\n			  Rhinebeck Bank\n		\n		\n			  N & S Supply\n\n			 \n			\n				\n					\n						Mover and Shaker Sponsors:\n					\n				\n				\n				\n			\n			\n		\n		\n			  Marshall & Sterling Insurance\n		\n		\n			  CareMount Medical\n		\n		\n			\n			\n				\n					\n						Hudson Valley Federal Credit Union\n					\n					\n						Judelson\, Giordano\, & Siegel\, CPA\, P.C.\n					\n					\n						M & T Bank\n					\n					\n						Mackey Butts & Wise LLP\n					\n					\n						RBT CPAs\, LLP\n					\n					\n						Rose & Kiernan\n					\n					\n						ServiceMaster Restore by Nest\n					\n					\n						Tompkins Mahopac Bank\n					\n				\n			\n			  Central Hudson Gas & Electric Corp.\n\n			 \n\n			\n				\n					\n						Profile Sponsor:\n					\n				\n				\n				\n			\n			\n		\n		\n			  Hudson Cadillac-Buick-GMC\n\n			\n\n			Awards:\n\n			De's Jewelers\n\n			 \n		\n		\n			\n			\n				\n					\n						VIP Reception Sponsors:\n					\n				\n				\n				\n			\n			\n		\n		\n			\n			\n				\n					\n						  PVE\, LLC\n					\n					\n						  Talex Media\n					\n				\n				\n				\n			\n			\n		\n		\n			\n\n			Photography:\n\n			  Chosen Moments \n\n			\n\n			Thank you to our Sponsors!
X-ALT-DESC;FMTTYPE=text/html:<p><span style="font-size: 14px\;"><span style="font-family: arial\;"><span style="font-size: 16px\;"><span style="color: rgb(255\, 0\, 0)\;"><span style="font-family: verdana\;"><strong>For Reservations<br />\nPlease Call&nbsp\;(845) 454-1700 Ext. 1000.</strong></span></span></span><br />\n<br />\nThe Dutchess County Regional Chamber of Commerce recognizes a talented and diverse group of young professionals in the Hudson Valley as the top Forty Under 40.&nbsp\;Bestowed annually to 40 people under the age of 40 who have shown a strong commitment to the Hudson Valley\, the Shaker Awards honor the next generation of leaders in our region.</span></span></p>\n\n<table border="0" cellpadding="0" cellspacing="0" style="width: 175px\; border-collapse: collapse\;" width="174">\n	<tbody>\n		<tr height="20" style="height: 20px\;">\n			<td height="20" style="border: 0px black\; border-image: none\; width: 175px\; height: 20px\;"><span style="font-size: 14px\;"><span style="font-family: arial\;">Event Sponsors: </span></span></td>\n		</tr>\n	</tbody>\n	<colgroup>\n	</colgroup>\n</table>\n\n<table border="0" cellpadding="0" cellspacing="0" style="width: 284px\; height: 592px\; border-collapse: collapse\;" width="0">\n	<tbody>\n		<tr style="height: 20px\;">\n			<td nowrap="nowrap" style="padding: 0in 5.4pt\; border: rgb(0\, 0\, 0)\; border-image: none\; width: 253px\; height: 20px\; vertical-align: bottom\;"><span style="font-size: 14px\;"><span style="font-family: arial\;"><span style="color: rgb(0\, 0\, 255)\;">&nbsp\; </span><a href="https://www.rhinebeckbank.com/" target="_blank"><span style="color: rgb(0\, 0\, 255)\;">Rhinebeck Bank</span></a></span></span></td>\n		</tr>\n		<tr style="height: 20px\;">\n			<td nowrap="nowrap" style="padding: 0in 5.4pt\; border: rgb(0\, 0\, 0)\; border-image: none\; width: 253px\; height: 20px\; vertical-align: bottom\;"><span style="font-size: 14px\;"><span style="font-family: arial\;"><span style="color: rgb(0\, 0\, 255)\;">&nbsp\; </span><a href="https://www.nssupply.com/" target="_blank"><span style="color: rgb(0\, 0\, 255)\;">N &amp\; S Supply</span></a></span></span><br />\n			&nbsp\;\n			<table border="0" cellpadding="0" cellspacing="0" style="width: 175px\; border-collapse: collapse\;" width="174">\n				<tbody>\n					<tr height="20" style="height: 20px\;">\n						<td height="20" style="border: 0px black\; border-image: none\; width: 175px\; height: 20px\;"><span style="font-size: 14px\;"><span style="font-family: arial\;">Mover and Shaker Sponsors:</span></span></td>\n					</tr>\n				</tbody>\n				<colgroup>\n				</colgroup>\n			</table>\n			</td>\n		</tr>\n		<tr style="height: 20px\;">\n			<td nowrap="nowrap" style="padding: 0in 5.4pt\; border: rgb(0\, 0\, 0)\; border-image: none\; width: 253px\; height: 20px\; vertical-align: bottom\;"><span style="font-size: 14px\;"><span style="font-family: arial\;"><span style="color: black\;">&nbsp\; </span><a href="https://www.marshallsterling.com/" target="_blank"><span style="color: rgb(0\, 0\, 255)\;">Marshall &amp\; Sterling Insurance</span></a></span></span></td>\n		</tr>\n		<tr style="height: 20px\;">\n			<td nowrap="nowrap" style="padding: 0in 5.4pt\; border: rgb(0\, 0\, 0)\; border-image: none\; width: 253px\; height: 20px\; vertical-align: bottom\;"><span style="font-size: 14px\;"><span style="font-family: arial\;"><span style="color: rgb(0\, 0\, 255)\;">&nbsp\; </span><a href="https://www.caremountmedical.com/" target="_blank"><span style="color: rgb(0\, 0\, 255)\;">CareMount Medical</span></a></span></span></td>\n		</tr>\n		<tr style="height: 20px\;">\n			<td nowrap="nowrap" style="padding: 0in 5.4pt\; border: rgb(0\, 0\, 0)\; border-image: none\; width: 253px\; height: 20px\; vertical-align: bottom\;">\n			<table border="0" cellpadding="0" cellspacing="0" style="width: 264px\; height: 208px\; border-collapse: collapse\;" width="0">\n				<tbody>\n					<tr style="height: 20px\;">\n						<td nowrap="nowrap" style="padding: 0in 5.4pt\; border: rgb(0\, 0\, 0)\; border-image: none\; width: 253px\; height: 20px\; vertical-align: bottom\;"><span style="font-size: 14px\;"><span style="font-family: arial\;"><a href="https://www.hvfcu.org/" target="_blank"><span style="color: rgb(0\, 0\, 255)\;">Hudson Valley Federal Credit Union</span></a></span></span></td>\n					</tr>\n					<tr style="height: 20px\;">\n						<td nowrap="nowrap" style="padding: 0in 5.4pt\; border: rgb(0\, 0\, 0)\; border-image: none\; width: 253px\; height: 20px\; vertical-align: bottom\;"><span style="font-size: 14px\;"><span style="font-family: arial\;"><a href="http://www.jgspc.com/" target="_blank"><span style="color: rgb(0\, 0\, 255)\;">Judelson\, Giordano\, &amp\; Siegel\, CPA\, P.C.</span></a></span></span></td>\n					</tr>\n					<tr style="height: 20px\;">\n						<td nowrap="nowrap" style="padding: 0in 5.4pt\; border: rgb(0\, 0\, 0)\; border-image: none\; width: 253px\; height: 20px\; vertical-align: bottom\;"><span style="font-size: 14px\;"><span style="font-family: arial\;"><a href="https://www.mtb.com/home-page" target="_blank"><span style="color: rgb(0\, 0\, 255)\;">M &amp\; T Bank</span></a></span></span></td>\n					</tr>\n					<tr style="height: 20px\;">\n						<td nowrap="nowrap" style="padding: 0in 5.4pt\; border: rgb(0\, 0\, 0)\; border-image: none\; width: 253px\; height: 20px\; vertical-align: bottom\;"><span style="font-size: 14px\;"><span style="font-family: arial\;"><a href="https://mbwise.com/" target="_blank"><span style="color: rgb(0\, 0\, 255)\;">Mackey Butts &amp\; Wise LLP</span></a></span></span></td>\n					</tr>\n					<tr style="height: 20px\;">\n						<td nowrap="nowrap" style="padding: 0in 5.4pt\; border: rgb(0\, 0\, 0)\; border-image: none\; width: 253px\; height: 20px\; vertical-align: bottom\;"><span style="font-size: 14px\;"><span style="font-family: arial\;"><a href="https://www.rbtcpas.com/" target="_blank"><span style="color: rgb(0\, 0\, 255)\;">RBT CPAs\, LLP</span></a></span></span></td>\n					</tr>\n					<tr style="height: 20px\;">\n						<td nowrap="nowrap" style="padding: 0in 5.4pt\; border: rgb(0\, 0\, 0)\; border-image: none\; width: 253px\; height: 20px\; vertical-align: bottom\;"><span style="font-size: 14px\;"><span style="font-family: arial\;"><a href="https://www.rkinsurance.com/" target="_blank"><span style="color: rgb(0\, 0\, 255)\;">Rose &amp\; Kiernan</span></a></span></span></td>\n					</tr>\n					<tr style="height: 20px\;">\n						<td nowrap="nowrap" style="padding: 0in 5.4pt\; border: rgb(0\, 0\, 0)\; border-image: none\; width: 253px\; height: 20px\; vertical-align: bottom\;"><span style="font-size: 14px\;"><span style="font-family: arial\;"><a href="http://www.servicemasterrestore.com/locations/ny/poughkeepsie/servicemaster-cleaning-and-restoration-9947"><span style="color: rgb(0\, 0\, 255)\;">ServiceMaster&nbsp\;Restore by Nest</span></a></span></span></td>\n					</tr>\n					<tr style="height: 20px\;">\n						<td nowrap="nowrap" style="padding: 0in 5.4pt\; border: rgb(0\, 0\, 0)\; border-image: none\; width: 253px\; height: 20px\; vertical-align: bottom\;"><span style="font-size: 14px\;"><span style="font-family: arial\;"><a href="https://www.mahopacbank.com/" target="_blank"><span style="color: rgb(0\, 0\, 255)\;">Tompkins Mahopac Bank</span></a></span></span></td>\n					</tr>\n				</tbody>\n			</table>\n			<span style="font-size: 14px\;"><span style="font-family: arial\;"><span style="color: rgb(0\, 0\, 255)\;">&nbsp\; </span><a href="https://www.cenhud.com/" target="_blank"><span style="color: rgb(0\, 0\, 255)\;">Central Hudson Gas &amp\; Electric Corp.</span></a></span></span><br />\n			<span style="font-size: 14px\;"><span style="font-family: arial\;">&nbsp\;</span></span>\n\n			<table border="0" cellpadding="0" cellspacing="0" style="width: 175px\; border-collapse: collapse\;" width="174">\n				<tbody>\n					<tr height="20" style="height: 20px\;">\n						<td height="20" style="border: 0px black\; border-image: none\; width: 175px\; height: 20px\;"><span style="font-size: 14px\;"><span style="font-family: arial\;">Profile Sponsor:</span></span></td>\n					</tr>\n				</tbody>\n				<colgroup>\n				</colgroup>\n			</table>\n			</td>\n		</tr>\n		<tr style="height: 20px\;">\n			<td nowrap="nowrap" style="padding: 0in 5.4pt\; border: rgb(0\, 0\, 0)\; border-image: none\; width: 253px\; height: 20px\; vertical-align: bottom\;"><span style="font-size: 14px\;"><span style="font-family: arial\;"><span style="color: black\;">&nbsp\;</span><a href="https://www.hudsonbuickgmc.com/" target="_blank"><span style="color: rgb(0\, 0\, 255)\;"> Hudson Cadillac-Buick-GMC</span></a></span></span><br />\n			<br />\n			<span style="font-size: 14px\;"><span style="font-family: arial\;">Awards:</span></span><br />\n			<a href="http://desjewelers.com/" target="_blank"><span style="color: rgb(0\, 0\, 255)\;"><span style="font-size: 14px\;"><span style="font-family: arial\;">De&#39\;s Jewelers</span></span></span></a><br />\n			&nbsp\;</td>\n		</tr>\n		<tr style="height: 20px\;">\n			<td nowrap="nowrap" style="padding: 0in 5.4pt\; border: rgb(0\, 0\, 0)\; border-image: none\; width: 253px\; height: 20px\; vertical-align: bottom\;">\n			<table border="0" cellpadding="0" cellspacing="0" style="width: 175px\; border-collapse: collapse\;" width="174">\n				<tbody>\n					<tr height="20" style="height: 20px\;">\n						<td height="20" style="border: 0px black\; border-image: none\; width: 175px\; height: 20px\;"><span style="font-size: 14px\;"><span style="font-family: arial\;">VIP Reception Sponsors:</span></span></td>\n					</tr>\n				</tbody>\n				<colgroup>\n				</colgroup>\n			</table>\n			</td>\n		</tr>\n		<tr style="height: 20px\;">\n			<td nowrap="nowrap" style="padding: 0in 5.4pt\; border: rgb(0\, 0\, 0)\; border-image: none\; width: 253px\; height: 20px\; vertical-align: bottom\;">\n			<table border="0" cellpadding="0" cellspacing="0" style="width: 253px\; border-collapse: collapse\;" width="253">\n				<tbody>\n					<tr height="20" style="height: 20px\;">\n						<td height="20" style="border: 0px black\; border-image: none\; width: 253px\; height: 20px\;"><span style="font-size: 14px\;"><span style="font-family: arial\;">&nbsp\; <a href="https://www.pve-llc.com/" target="_blank"><span style="color: rgb(0\, 0\, 255)\;">PVE\, LLC</span></a></span></span></td>\n					</tr>\n					<tr height="20" style="height: 20px\;">\n						<td height="20" style="border: 0px black\; border-image: none\; height: 20px\;"><span style="font-size: 14px\;"><span style="font-family: arial\;">&nbsp\; <a href="https://www.talexmedia.com/" target="_blank"><span style="color: rgb(0\, 0\, 255)\;">Talex Media</span></a></span></span></td>\n					</tr>\n				</tbody>\n				<colgroup>\n				</colgroup>\n			</table>\n			</td>\n		</tr>\n		<tr style="height: 20px\;">\n			<td nowrap="nowrap" style="padding: 0in 5.4pt\; border: rgb(0\, 0\, 0)\; border-image: none\; width: 253px\; height: 20px\; vertical-align: bottom\;"><br />\n			<span style="font-size: 14px\;"><span style="font-family: arial\;">Photography:</span></span><br />\n			<span style="font-size: 14px\;"><span style="font-family: arial\;">&nbsp\; <a href="http://chosenmomentsphoto.com" target="_blank"><font color="#0000ff">Chosen Moments </font></a></span></span><br />\n			<br />\n			<span style="font-size: 14px\;"><span style="font-family: arial\;">Thank you to our Sponsors!</span></span></td>\n		</tr>\n		<tr style="height: 20px\;">\n			<td nowrap="nowrap" style="padding: 0in 5.4pt\; border: rgb(0\, 0\, 0)\; border-image: none\; width: 253px\; height: 20px\; vertical-align: bottom\;">&nbsp\;</td>\n		</tr>\n		<tr style="height: 20px\;">\n			<td nowrap="nowrap" style="padding: 0in 5.4pt\; border: rgb(0\, 0\, 0)\; border-image: none\; width: 253px\; height: 20px\; vertical-align: bottom\;">&nbsp\;</td>\n		</tr>\n		<tr style="height: 20px\;">\n			<td nowrap="nowrap" style="padding: 0in 5.4pt\; border: rgb(0\, 0\, 0)\; border-image: none\; width: 253px\; height: 20px\; vertical-align: bottom\;">&nbsp\;</td>\n		</tr>\n		<tr style="height: 20px\;">\n			<td nowrap="nowrap" style="padding: 0in 5.4pt\; border: rgb(0\, 0\, 0)\; border-image: none\; width: 253px\; height: 20px\; vertical-align: bottom\;">&nbsp\;</td>\n		</tr>\n		<tr style="height: 20px\;">\n			<td nowrap="nowrap" style="padding: 0in 5.4pt\; border: rgb(0\, 0\, 0)\; border-image: none\; width: 253px\; height: 20px\; vertical-align: bottom\;">&nbsp\;</td>\n		</tr>\n		<tr style="height: 20px\;">\n			<td nowrap="nowrap" style="padding: 0in 5.4pt\; border: rgb(0\, 0\, 0)\; border-image: none\; width: 253px\; height: 20px\; vertical-align: bottom\;">&nbsp\;&nbsp\;&nbsp\;&nbsp\;&nbsp\;&nbsp\;&nbsp\;&nbsp\;&nbsp\;&nbsp\;&nbsp\;&nbsp\;&nbsp\;&nbsp\;&nbsp\;&nbsp\;&nbsp\;&nbsp\;&nbsp\;&nbsp\;&nbsp\;&nbsp\;&nbsp\;&nbsp\;&nbsp\;&nbsp\;&nbsp\;&nbsp\;&nbsp\;&nbsp\;&nbsp\;&nbsp\;&nbsp\;&nbsp\;&nbsp\;&nbsp\;&nbsp\;&nbsp\;&nbsp\;&nbsp\;&nbsp\;&nbsp\;&nbsp\;&nbsp\;&nbsp\;&nbsp\;&nbsp\;&nbsp\;&nbsp\;&nbsp\;&nbsp\;&nbsp\;&nbsp\;&nbsp\;&nbsp\;</td>\n		</tr>\n		<tr style="height: 20px\;">\n			<td nowrap="nowrap" style="padding: 0in 5.4pt\; border: rgb(0\, 0\, 0)\; border-image: none\; width: 253px\; height: 20px\; vertical-align: bottom\;">&nbsp\;</td>\n		</tr>\n	</tbody>\n</table>\n\n<p><br />\n<br />\n<br />\n&nbsp\;</p>\n
LOCATION:Cocktail Reception at Poughkeepsie Grand Hotel & Conference Center 40 Civic Center Plaza Poughkeepsie\, NY 12601 Awards Ceremony at Changepoint Theater 260 Mill Street Poughkeepsie\, NY 12601
UID:e.2770.10479787
SEQUENCE:3
DTSTAMP:20260423T062807Z
URL:https://business.dcrcoc.org/events/details/forty-under-40-mover-shaker-awards-10479787
END:VEVENT

END:VCALENDAR
