BEGIN:VCALENDAR
VERSION:2.0
PRODID:-//ChamberMaster//Event Calendar 2.0//EN
METHOD:PUBLISH
X-PUBLISHED-TTL:P3D
REFRESH-INTERVAL:P3D
CALSCALE:GREGORIAN
BEGIN:VEVENT
DTSTART:20180603T160000Z
DTEND:20180603T170000Z
X-MICROSOFT-CDO-ALLDAYEVENT:FALSE
SUMMARY:FREE AURA SOMA COLOUR THERAPY DISCUSSION
DESCRIPTION:Start your self discovery journey today!  60 minute discussion on Aura Some Colour Therapy.-\n\nCheck out Aura Soma Colour Therapy at www.thesource-ny.com
X-ALT-DESC;FMTTYPE=text/html:<p><span style="color:rgb(66\, 66\, 66)\; font-family:arial\,sans-serif\; font-size:9pt">Start your self discovery journey today!&nbsp\; 60 minute discussion on Aura Some Colour Therapy.<font color="#001000" face="sans-serif\,Arial\,Verdana\,&quot\;Trebuchet MS&quot\;">-</font></span><br />\nCheck out Aura Soma Colour Therapy at <a href="http://www.thesource-ny.com/">www.thesource-ny.com</a></p>\n
LOCATION:The Source NY 143 Boardman Road\, Building #3 Poughkeepsie\, NY 845-214-0452
UID:e.2770.10476887
SEQUENCE:3
DTSTAMP:20260425T171055Z
URL:https://business.dcrcoc.org/events/details/free-aura-soma-colour-therapy-discussion-04-08-2018-10476887
END:VEVENT

END:VCALENDAR
