BEGIN:VCALENDAR
VERSION:2.0
PRODID:-//ChamberMaster//Event Calendar 2.0//EN
METHOD:PUBLISH
X-PUBLISHED-TTL:P3D
REFRESH-INTERVAL:P3D
CALSCALE:GREGORIAN
BEGIN:VEVENT
DTSTART:20180715T160000Z
DTEND:20180715T170000Z
X-MICROSOFT-CDO-ALLDAYEVENT:FALSE
SUMMARY:FREE AURA-SOMA COLOUR THERAPY DISCUSSION
DESCRIPTION:Join us for an informal discussion about the Aura-Soma Colour Therapy self discovery process.  Reveal your highest potential as you connect with the energies of color\, crystals\, gems\, plants and aromas.  Readings for individuals and couples exclusively at The Source NY.
X-ALT-DESC;FMTTYPE=text/html:Join us for an informal discussion about the Aura-Soma Colour Therapy self discovery process.&nbsp\; Reveal your highest potential as you connect with the energies of color\, crystals\, gems\, plants and aromas.&nbsp\; Readings for individuals and couples exclusively at The Source NY.
LOCATION:143 Boardman Road\, Building #3 Poughkeepsie\, NY
UID:e.2770.10477193
SEQUENCE:3
DTSTAMP:20260425T155204Z
URL:https://business.dcrcoc.org/events/details/free-aura-soma-colour-therapy-discussion-04-08-2018-10477193
END:VEVENT

END:VCALENDAR
