BEGIN:VCALENDAR
VERSION:2.0
PRODID:-//ChamberMaster//Event Calendar 2.0//EN
METHOD:PUBLISH
X-PUBLISHED-TTL:P3D
REFRESH-INTERVAL:P3D
CALSCALE:GREGORIAN
BEGIN:VEVENT
DTSTART:20180311T163000Z
DTEND:20180311T173000Z
X-MICROSOFT-CDO-ALLDAYEVENT:FALSE
SUMMARY:FREE AURA SOMA COLOUR THERAPY DISCUSSION
DESCRIPTION:Start your self discovery journey today!  60 minute discussion on Aura Some Colour Therapy.  One (1) Free Aura Soma Colour Reading will be given away at the session.\n\n-Check out Aura Soma Colour Therapy at www.thesource-ny.com
X-ALT-DESC;FMTTYPE=text/html:Start your self discovery journey today!&nbsp\; 60 minute discussion on Aura Some Colour Therapy.&nbsp\; One (1) Free Aura Soma Colour Reading will be given away at the session.<br />\n-Check out Aura Soma Colour Therapy at www.thesource-ny.com
LOCATION:The Source NY\, 143 Boardman Road\, Building #3\, Poughkeepsie\, NY 845-214-0452
UID:e.2770.10476884
SEQUENCE:3
DTSTAMP:20260425T210525Z
URL:https://business.dcrcoc.org/events/details/free-aura-soma-colour-therapy-discussion-10476884
END:VEVENT

END:VCALENDAR
