BEGIN:VCALENDAR
VERSION:2.0
PRODID:-//ChamberMaster//Event Calendar 2.0//EN
METHOD:PUBLISH
X-PUBLISHED-TTL:P3D
REFRESH-INTERVAL:P3D
CALSCALE:GREGORIAN
BEGIN:VEVENT
DTSTART:20180414T130000Z
DTEND:20180414T180000Z
X-MICROSOFT-CDO-ALLDAYEVENT:FALSE
SUMMARY:Free Coolsculpt Consult Day
DESCRIPTION:Join Dr. Silverman and his team at New Beginnings for a FREE Coolsculpting Consult on\n\nSaturday\, April 14 from 9:00 am - 2:00 pm. \n\nEveryone who has a consult performed will be entered into a raffle to win one cycle of Coolsculpting FREE! \n\nLimited Slots please call 845-454-NEWB to reserve an consult appointment with Dr. Silverman.\n\nThe COOLEST way to lose FAT!
X-ALT-DESC;FMTTYPE=text/html:<div style="text-align:center"><span style="background-color:transparent\; color:rgb(75\, 79\, 86)\; font-family:helvetica\,arial\,sans-serif\; font-size:14px">Join Dr. Silverman and his team at New Beginnings for a FREE Coolsculpting Consult on<br />\nSaturday\, April 14 from 9:00 am - 2:00 pm. </span></div>\n\n<div style="text-align:center"><span style="background-color:transparent\; color:rgb(75\, 79\, 86)\; font-family:helvetica\,arial\,sans-serif\; font-size:14px">Everyone who has a consult performed will be entered into a raffle to win one cycle of Coolsculpting FREE! </span><br />\n<span style="background-color:transparent\; color:rgb(75\, 79\, 86)\; font-family:helvetica\,arial\,sans-serif\; font-size:14px">Limited Slots please call 845-454-NEWB to reserve an consult appointment with Dr. Silverman.<br />\nThe COOLEST way to lose FAT!</span></div>\n
LOCATION:4 Liberty Street\, Third Floor Poughkeepsie\, NY 12601
UID:e.2770.10477144
SEQUENCE:3
DTSTAMP:20260425T195018Z
URL:https://business.dcrcoc.org/events/details/free-coolsculpt-consult-day-10477144
END:VEVENT

END:VCALENDAR
