BEGIN:VCALENDAR
VERSION:2.0
PRODID:-//ChamberMaster//Event Calendar 2.0//EN
METHOD:PUBLISH
X-PUBLISHED-TTL:P3D
REFRESH-INTERVAL:P3D
CALSCALE:GREGORIAN
BEGIN:VEVENT
DTSTART:20171130T150000Z
DTEND:20171201T000000Z
X-MICROSOFT-CDO-ALLDAYEVENT:FALSE
SUMMARY:Free Coolsculpting Consult Day
DESCRIPTION:Join Us for a COOL day.   Say hello to Coolsculpting and goodbye to stubborn bulges.  CoolSculpting is a body contouring treatment that is FDA cleared and clinically proven to permanently reduce fa with NO surgery and NO downtime.  In a little as an hour\, this innovative treatment can help get you back the body you deserve.  Don't wait\, reclaim the real you today.   Start by joining us a one of our " COOL" events to learn more or to find out if Coolsculpting is right for you.\n\n* Free Coolsculpt Consultation with Dr Silverman\n\n*demo a Coolsculpt treatment \n\n*special pricing for attendees\n\n* enter to win FREE Coolsculpt treatment \n\n*meet our new esthetician \n\n*enter to win FREE esthetician services \n\n\n\nConsultation by appointment\, call today\n\nRSVP 845-454-NEWP
X-ALT-DESC;FMTTYPE=text/html:Join Us for a COOL day. &nbsp\; Say hello to Coolsculpting and goodbye to stubborn bulges.&nbsp\; CoolSculpting is a body contouring treatment that is FDA cleared and clinically proven to permanently reduce fa with NO surgery and NO downtime.&nbsp\; In a little as an hour\, this innovative treatment can help get you back the body you deserve.&nbsp\; Don&#39\;t wait\, reclaim the real you today. &nbsp\; Start by joining us a one of our &quot\; COOL&quot\; events to learn more or to find out if Coolsculpting is right for you.<br />\n* Free Coolsculpt Consultation with Dr Silverman<br />\n*demo a Coolsculpt treatment&nbsp\;<br />\n*special pricing for attendees<br />\n* enter to win FREE Coolsculpt treatment&nbsp\;<br />\n*meet our new esthetician&nbsp\;<br />\n*enter to win FREE esthetician services&nbsp\;<br />\n<br />\nConsultation by appointment\, call today<br />\nRSVP 845-454-NEWP
LOCATION:New Beginnings Plastic & Reconstructve Surgery 4 Liberty Street\, Third Floor Poughkeepsie\, NY 12601
UID:e.2770.10476554
SEQUENCE:3
DTSTAMP:20260426T020534Z
URL:https://business.dcrcoc.org/events/details/free-coolsculpting-consult-day-10476554
END:VEVENT

END:VCALENDAR
