BEGIN:VCALENDAR
VERSION:2.0
PRODID:-//ChamberMaster//Event Calendar 2.0//EN
METHOD:PUBLISH
X-PUBLISHED-TTL:P3D
REFRESH-INTERVAL:P3D
CALSCALE:GREGORIAN
BEGIN:VEVENT
DTSTART:20171110T140000Z
DTEND:20171110T220000Z
X-MICROSOFT-CDO-ALLDAYEVENT:FALSE
SUMMARY:Free Dental Work Day for Veterans
DESCRIPTION:Mel Mel Dental will be offering FREE dental work for Veterans Friday November 10th!
X-ALT-DESC;FMTTYPE=text/html:Mel Mel Dental will be offering FREE dental work for Veterans Friday November 10th!
LOCATION:Mel Mel Dental 1289 Route 9\, Suite 8 Wappingers Falls\, NY 12590
UID:e.2770.10476287
SEQUENCE:3
DTSTAMP:20260426T020616Z
URL:https://business.dcrcoc.org/events/details/free-dental-work-day-for-veterans-10476287
END:VEVENT

END:VCALENDAR
