BEGIN:VCALENDAR
VERSION:2.0
PRODID:-//ChamberMaster//Event Calendar 2.0//EN
METHOD:PUBLISH
X-PUBLISHED-TTL:P3D
REFRESH-INTERVAL:P3D
CALSCALE:GREGORIAN
BEGIN:VEVENT
DTSTART:20171011T153000Z
DTEND:20171011T170000Z
X-MICROSOFT-CDO-ALLDAYEVENT:FALSE
SUMMARY:Free Flowers for Fishkill as Lovingly Prepares to Petal It Forward
DESCRIPTION:Free Flowers for Fishkill as Lovingly Prepares to \n\nPetal It Forward\n \n\nAfter the runaway success of last year's Petal It Forward bonanza\, Lovingly is preparing to hand out hundreds more free flowers on the streets of Fishkill.\n\n\n\nFISHKILL\, N.Y.\, September 28\, 2017 - - On a busy street in Fishkill last year\, a woman with tears rolling down her cheeks told a complete stranger how much the gift he had just handed her meant. Cameras were put away. A public event had become a personal moment. \n\n\n\nApart from tears of joy\, there was also a sea of smiles and an endless supply of laughter. And it's all about to happen again. On Wednesday\, October 11\, from 11 a.m. to 2 p.m.\, anybody who happens to be on the street in Fishkill could be approached by a Happiness Ambassador from online flowers and gifts company\, Lovingly\, and handed two sets of flowers.\n\n\n\n"One is for the person who receives our gift\," says Ken Garland\, co-founder and managing partner of Lovingly\, "the other is a gift to be given by that person to anybody she or he chooses. Encouraging giving is what Petal It Forward is all about."\n\n\n\n"And we love it!" smiles fellow co-founder and managing partner\, Joe Vega. "This all started with the pay it forward phenomenon\, where random acts of kindness were encouraged. Of course\, studies on the mood-lifting effects of flowers made Petal It Forward a must.\n\n\n\n"It's the brainchild of the Society of American Florists\," explains Ken. "When we learned about it early last year\, we couldn't wait to join in. There was a real team effort and it was an incredibly rewarding experience for everybody involved."\n\n\n\n"The event serves to remind us why we do what we do\," agrees Joe. "Seeing the joy on people's faces\, the surprise\, even the tears that sometimes flow. That's what it's all about. Many team members were extremely moved last year. This is joy in action and proves that it really is better to give than receive."\n\n\n\n"Absolutely\," says Ken. "One minute you're a busy\, no-nonsense New Yorker\, the next you're laughing or crying\, ready to hand somebody else a flower and spread the love. Fantastic."\n\n\n\n"The street in Fishkill is the only place to be on October 11\," adds Joe. "We don't care who you are. As long as you believe in the spirit of giving\, you're a friend to Lovingly and we have a gift for you."\n\n\n\nAbout Lovingly: Lovingly was founded over ten years ago and has introduced many firsts to the online floral industry. Originally known as UFN\, Lovingly gains maximum exposure for florist websites through search engine marketing and increased orders through effective online store design.\n\n                                      ---\n\nMedia Contact  \n\nContact:      Michael Delgorio\, Director of Corporate Development    \n\nTel.:        (914) 930-6743\n\nEmail:        michael@lovingly.com\n\nWebsite:     sell.lovingly.com
X-ALT-DESC;FMTTYPE=text/html:<h3 style="text-align:center"><span style="font-size:14px"><span style="font-family:arial\,helvetica\,sans-serif"><strong>Free Flowers for Fishkill as Lovingly Prepares to </strong><br />\n<em>Petal It Forward</em></span></span></h3>\n&nbsp\;\n\n<p><span style="font-size:14px"><span style="font-family:arial\,helvetica\,sans-serif"><em>After the runaway success of last year&rsquo\;s Petal It Forward bonanza\, Lovingly is preparing to hand out hundreds more free flowers on the streets of Fishkill.</em><br />\n<br />\n<span style="background-color:transparent\; color:rgb(0\, 0\, 0)">FISHKILL\, N.Y.\, September 28\, 2017 - - On a busy street in Fishkill last year\, a woman with tears rolling down her cheeks told a complete stranger how much the gift he had just handed her meant. Cameras were put away. A public event had become a personal moment.</span>&nbsp\;</span></span></p>\n\n<p><br />\n<span style="font-size:14px"><span style="font-family:arial\,helvetica\,sans-serif"><span style="background-color:transparent\; color:rgb(0\, 0\, 0)">Apart from tears of joy\, there was also a sea of smiles and an endless supply of laughter. And it&rsquo\;s all about to happen again. On Wednesday\, October 11\, from 11 a.m. to 2 p.m.\, anybody who happens to be on the street in Fishkill could be approached by a </span><em>Happiness Ambassador </em><span style="background-color:transparent\; color:rgb(0\, 0\, 0)">from online flowers and gifts company\, </span><a href="https://www.lovingly.com/" style="text-decoration-line: none\;"><span style="background-color:transparent\; color:rgb(17\, 85\, 204)">Lovingly</span></a><span style="background-color:transparent\; color:rgb(0\, 0\, 0)">\, and handed two sets of flowers.</span></span></span></p>\n\n<p><br />\n<span style="font-size:14px"><span style="font-family:arial\,helvetica\,sans-serif"><span style="background-color:transparent\; color:rgb(0\, 0\, 0)">&ldquo\;One is for the person who receives our gift\,&rdquo\; says Ken Garland\, co-founder and managing partner of Lovingly\, &ldquo\;the other is a gift to be given by that person to anybody she or he chooses. Encouraging giving is what </span><em>Petal It Forward </em><span style="background-color:transparent\; color:rgb(0\, 0\, 0)">is all about.&quot\;</span><br />\n<br />\n<span style="background-color:transparent\; color:rgb(0\, 0\, 0)">&ldquo\;And we love it!&rdquo\; smiles fellow co-founder and managing partner\, Joe Vega. &ldquo\;This all started with the </span><em>pay it forward</em><span style="background-color:transparent\; color:rgb(0\, 0\, 0)"> phenomenon\, where random acts of kindness were encouraged. Of course\, studies on the </span><a href="http://www.huffingtonpost.com/sally-augustin/health-benefits-flowers_b_2992014.html" style="text-decoration-line: none\;"><span style="background-color:transparent\; color:rgb(17\, 85\, 204)">mood-lifting effects of flowers</span></a><span style="background-color:transparent\; color:rgb(0\, 0\, 0)"> made </span><em>Petal It Forward</em><span style="background-color:transparent\; color:rgb(0\, 0\, 0)"> a must.</span><br />\n<br />\n<span style="background-color:transparent\; color:rgb(0\, 0\, 0)">&ldquo\;It&rsquo\;s the brainchild of the </span><a href="https://safnow.org/trends-statistics/consumer-research/petalitforward/" style="text-decoration-line: none\;"><span style="background-color:transparent\; color:rgb(17\, 85\, 204)">Society of American Florists</span></a><span style="background-color:transparent\; color:rgb(0\, 0\, 0)">\,&rdquo\; explains Ken. &ldquo\;When we learned about it early last year\, we couldn&rsquo\;t wait to join in. There was a real team effort and it was an incredibly rewarding experience for everybody involved.&rdquo\;</span><br />\n<br />\n<span style="background-color:transparent\; color:rgb(0\, 0\, 0)">&ldquo\;The event serves to remind us why we do what we do\,&rdquo\; agrees Joe. &ldquo\;Seeing the joy on people&rsquo\;s faces\, the surprise\, even the tears that sometimes flow. That&rsquo\;s what it&rsquo\;s all about. Many team members were extremely moved last year. This is joy in action and proves that it really is&nbsp\;</span><span style="background-color:transparent\; color:rgb(0\, 0\, 0)">better to give than receive.&rdquo\;</span><br />\n<br />\n<span style="background-color:transparent\; color:rgb(0\, 0\, 0)">&ldquo\;Absolutely\,&rdquo\; says Ken. &ldquo\;One minute you&rsquo\;re a busy\, no-nonsense New Yorker\, the next you&rsquo\;re laughing or crying\, ready to hand somebody else a flower and spread the love. Fantastic.&rdquo\;</span><br />\n<br />\n<span style="background-color:transparent\; color:rgb(0\, 0\, 0)">&ldquo\;The street in Fishkill is the only place to be on October 11\,&rdquo\; adds Joe. &ldquo\;We don&rsquo\;t care who you are. As long as you believe in the spirit of giving\, you&rsquo\;re a friend to Lovingly and we have a gift for you.&rdquo\;</span><br />\n<br />\n<strong>About Lovingly: </strong><span style="background-color:transparent\; color:rgb(0\, 0\, 0)">Lovingly was founded over ten years ago and has introduced many firsts to the online floral industry. Originally known as UFN\, Lovingly gains </span><a href="https://sell.lovingly.com/florist-websites/" style="text-decoration-line: none\;"><span style="background-color:transparent\; color:rgb(17\, 85\, 204)">maximum exposure for florist websites</span></a><span style="background-color:transparent\; color:rgb(0\, 0\, 0)"> through search engine marketing and increased orders through effective online store design.</span></span></span></p>\n\n<p><span style="font-size:14px"><span style="font-family:arial\,helvetica\,sans-serif"><span style="background-color:transparent\; color:rgb(0\, 0\, 0)">&mdash\;&mdash\;&mdash\;&mdash\;&mdash\;&mdash\;&mdash\;&mdash\;&mdash\;&mdash\;&mdash\;&mdash\;&mdash\;&mdash\;&mdash\;&mdash\;&mdash\;&mdash\;&mdash\;&mdash\;&mdash\;&mdash\;&mdash\;&mdash\;&mdash\;&mdash\;&mdash\;&mdash\;&mdash\;&mdash\;&mdash\;&mdash\;&mdash\;&mdash\;&mdash\;&mdash\;&mdash\;&mdash\;---</span></span></span></p>\n\n<p><span style="font-size:14px"><span style="font-family:arial\,helvetica\,sans-serif"><strong>Media Contact &nbsp\;</strong></span></span></p>\n\n<p><span style="font-size:14px"><span style="font-family:arial\,helvetica\,sans-serif"><span style="color:rgb(0\, 0\, 0)">Contact: &nbsp\;</span><span style="color:rgb(0\, 0\, 0)">&nbsp\;&nbsp\; &nbsp\;</span><span style="color:rgb(0\, 0\, 0)">Michael Delgorio\, Director of Corporate Development</span><span style="color:rgb(0\, 0\, 0)">&nbsp\; &nbsp\;&nbsp\;</span><br />\n<span style="color:rgb(0\, 0\, 0)">Tel.:</span><span style="color:rgb(0\, 0\, 0)">&nbsp\;&nbsp\; &nbsp\;</span><span style="color:rgb(0\, 0\, 0)">&nbsp\;&nbsp\; &nbsp\;</span><span style="background-color:transparent\; color:rgb(0\, 0\, 0)">(914) 930-6743</span><br />\n<span style="color:rgb(0\, 0\, 0)">Email:</span><span style="color:rgb(0\, 0\, 0)">&nbsp\;&nbsp\; &nbsp\;</span><span style="color:rgb(0\, 0\, 0)">&nbsp\;&nbsp\; &nbsp\;</span><span style="color:rgb(17\, 85\, 204)"><a href="mailto:michael@lovingly.com" style="text-decoration-line: none\;">michael@lovingly.com</a></span><br />\n<span style="color:rgb(0\, 0\, 0)">Website: </span><span style="color:rgb(0\, 0\, 0)">&nbsp\;&nbsp\; &nbsp\;</span><span style="color:rgb(17\, 85\, 204)"><a href="https://sell.lovingly.com" style="text-decoration-line: none\;">sell.lovingly.com</a></span></span></span></p>\n\n<div>&nbsp\;</div>\n
LOCATION:Main Street Fishkill Village\, at the Corner Near USPS.
UID:e.2770.10476352
SEQUENCE:3
DTSTAMP:20260426T033444Z
URL:https://business.dcrcoc.org/events/details/free-flowers-for-fishkill-as-lovingly-prepares-to-petal-it-forward-10476352
END:VEVENT

END:VCALENDAR
