BEGIN:VCALENDAR
VERSION:2.0
PRODID:-//ChamberMaster//Event Calendar 2.0//EN
METHOD:PUBLISH
X-PUBLISHED-TTL:P3D
REFRESH-INTERVAL:P3D
CALSCALE:GREGORIAN
BEGIN:VEVENT
DTSTART:20201203T180000Z
DTEND:20201203T210000Z
X-MICROSOFT-CDO-ALLDAYEVENT:FALSE
SUMMARY:Free Flu Shot Clinic
DESCRIPTION:Regardless of insurance\, on Thursday\, December 3\, anyone can receive a free flu shot at El Centro Hispano Food Dist. at Post Road Elementary School   175 West Post Road\, White Plains\, NY 10606   from 1:00-4:00 p.m. Hosted by MVP Health Care. A flu vaccine protects against the flu but also potential serious complications that come with it\, which is especially important this year with a global pandemic impacting our everyday lives. That is why MVP Health Care is hosting free flu shot clinics throughout the Mid-Hudson Region to support its community during this time. Many doctors say that having the flu and COVID-19 at the same time could be very dangerous\, even for healthy adults. That's why this flu season\, the best ways to stay healthy are to wear a mask\, practice social distancing\, and get a flu shot. You do not need to make a reservation\, but you will be asked to register upon arrival.
X-ALT-DESC;FMTTYPE=text/html:Regardless of insurance\, on Thursday\, December 3\, anyone can receive a free flu shot at El Centro Hispano Food Dist. at Post Road Elementary School &ndash\; 175 West Post Road\, White Plains\, NY 10606 &ndash\; from 1:00-4:00 p.m. Hosted by MVP Health Care. A flu vaccine protects against the flu but also potential serious complications that come with it\, which is especially important this year with a global pandemic impacting our everyday lives. That is why MVP Health Care is hosting free flu shot clinics throughout the Mid-Hudson Region to support its community during this time. Many doctors say that having the flu and COVID-19 at the same time could be very dangerous\, even for healthy adults. That&rsquo\;s why this flu season\, the best ways to stay healthy are to wear a mask\, practice social distancing\, and get a flu shot. You do not need to make a reservation\, but you will be asked to register upon arrival.
LOCATION:El Centro Hispano Food Dist. at Post Road Elementary School 175 West Post Road White Plains\, NY 10606
UID:e.2770.10484794
SEQUENCE:3
DTSTAMP:20260421T192126Z
URL:https://business.dcrcoc.org/events/details/free-flu-shot-clinic-10484794
END:VEVENT

END:VCALENDAR
