BEGIN:VCALENDAR
VERSION:2.0
PRODID:-//ChamberMaster//Event Calendar 2.0//EN
METHOD:PUBLISH
X-PUBLISHED-TTL:P3D
REFRESH-INTERVAL:P3D
CALSCALE:GREGORIAN
BEGIN:VEVENT
DTSTART:20190621T160000Z
DTEND:20190621T200000Z
X-MICROSOFT-CDO-ALLDAYEVENT:FALSE
SUMMARY:Free Health Screenings
DESCRIPTION:Join United Way of the Dutchess-Orange Region and Hudson River Health Care for a free health screenings featuring: -Free childcare & activities -Gift cards -Bike & helmet raffle -Food\, good baggies -Free community resources
X-ALT-DESC;FMTTYPE=text/html:Join United Way of the Dutchess-Orange Region and Hudson River Health Care for a free health screenings featuring: -Free childcare &amp\; activities -Gift cards -Bike &amp\; helmet raffle -Food\, good baggies -Free community resources
LOCATION:Family Partnership Center (29 N.Hamilton\, St. Poughkeepsie\, NY)
UID:e.2770.10480708
SEQUENCE:3
DTSTAMP:20260423T031154Z
URL:https://business.dcrcoc.org/events/details/free-health-screenings-10480708
END:VEVENT

END:VCALENDAR
