BEGIN:VCALENDAR
VERSION:2.0
PRODID:-//ChamberMaster//Event Calendar 2.0//EN
METHOD:PUBLISH
X-PUBLISHED-TTL:P3D
REFRESH-INTERVAL:P3D
CALSCALE:GREGORIAN
BEGIN:VEVENT
DTSTART:20260424T220000Z
DTEND:20260425T003000Z
X-MICROSOFT-CDO-ALLDAYEVENT:FALSE
SUMMARY:Free Screening of Award-Winning Documentary\, American Nightmare/American Dream
DESCRIPTION:Witness the raw\, emotional stories of four New Yorkers who fought every obstacle to escape poverty and find stable lives with purpose. Now they are helping others do the same.
X-ALT-DESC;FMTTYPE=text/html:<strong><span style="font-family:verdana">Witness the raw\, emotional stories of four New Yorkers who fought every obstacle to escape poverty and find stable lives with purpose. Now they are helping others do the same.</span></strong>
LOCATION:Family Partnership Center 29 N Hamilton St Poughkeepsie\, NY
UID:e.2770.10501353
SEQUENCE:3
DTSTAMP:20260422T182557Z
URL:https://business.dcrcoc.org/events/details/free-screening-of-award-winning-documentary-american-nightmare-american-dream-10501353
END:VEVENT

END:VCALENDAR
