BEGIN:VCALENDAR
VERSION:2.0
PRODID:-//ChamberMaster//Event Calendar 2.0//EN
METHOD:PUBLISH
X-PUBLISHED-TTL:P3D
REFRESH-INTERVAL:P3D
CALSCALE:GREGORIAN
BEGIN:VEVENT
DTSTART:20180614T220000Z
DTEND:20180614T230000Z
X-MICROSOFT-CDO-ALLDAYEVENT:FALSE
SUMMARY:FREE SEMINAR: Kitchen Remodeling - The recipe for a successful remodel!
DESCRIPTION:Is your kitchen in need of a remodel\, but you're not sure where to start? Look no further! Join DBS Remodel\, Rhinebeck Bank\, and Page Kitchen & Bath Showroom for a FREE SEMINAR: Kitchen Remodeling the recipe for a successful remodel!\n\n\n\nThis seminar will feature financing options\, kitchen trends\, and how to hire a contractor all ingredients needed to take avoid stress & make for success! The Kitchen Remodeling seminar will take place at Page Lumber in Poughkeepsie\, June 14th @ 6:00pm. Attendees will be able to meet with professionals in each industry\, learn more about the process\, and discuss their projects\, all while enjoying light refreshments.\n\n\n\nFor more information\, call (845)485-8343 or email alexis@dbsremodel.com\n\n\n\nReserve your seat now: https://www.dbsremodel.com/events/kitchen-remodeling/
X-ALT-DESC;FMTTYPE=text/html:<span style="font-family:times new roman"><span style="color:rgb(29\, 33\, 41)">Is your kitchen in need of a remodel\, but you&rsquo\;re not sure where to start? Look no further! Join DBS Remodel\, Rhinebeck Bank\, and Page Kitchen &amp\; Bath Showroom for a FREE SEMINAR: Kitchen Remodeling&ndash\;the recipe for a successful remodel!</span><br />\n<br />\n<span style="color:rgb(29\, 33\, 41)">This seminar will feature financing options\, kitchen trends\, and how to hire a contractor&mdash\;all ingredients needed to take avoid stress &amp\; make for success! The Kitchen Remodeling seminar will take place at Page Lumber in Poughkeepsie\, June 14th @ </span></span><span style="color:rgb(29\, 33\, 41)"><span style="font-family:times new roman">6:00pm.</span></span><span style="font-family:times new roman"><span style="color:rgb(29\, 33\, 41)"> Attendees will be able to meet with professionals in each industry\, learn more about the process\, and discuss their projects\, all while enjoying light refreshments.</span><br />\n<br />\n<span style="color:rgb(29\, 33\, 41)">For more information\, call (845)485-8343 or email alexis@dbsremodel.com<br />\n<br />\nReserve your&nbsp\;seat now:&nbsp\;</span><a href="https://www.dbsremodel.com/events/kitchen-remodeling/">https://www.dbsremodel.com/events/kitchen-remodeling/ </a></span><a href="https://www.dbsremodel.com/events/kitchen-remodeling/"><span style="color:rgb(29\, 33\, 41)"><span style="font-family:times new roman">&nbsp\;</span></span></a>
LOCATION:Page Lumber 360 Manchester Rd\, Poughkeepsie\, NY\, 12603
UID:e.2770.10477783
SEQUENCE:3
DTSTAMP:20260425T171015Z
URL:https://business.dcrcoc.org/events/details/free-seminar-kitchen-remodeling-the-recipe-for-a-successful-remodel-10477783
END:VEVENT

END:VCALENDAR
