BEGIN:VCALENDAR
VERSION:2.0
PRODID:-//ChamberMaster//Event Calendar 2.0//EN
METHOD:PUBLISH
X-PUBLISHED-TTL:P3D
REFRESH-INTERVAL:P3D
CALSCALE:GREGORIAN
BEGIN:VEVENT
DTSTART:20180530T210000Z
DTEND:20180530T230000Z
X-MICROSOFT-CDO-ALLDAYEVENT:FALSE
SUMMARY:FREE SEMINAR ON EYE REJUVENATION
DESCRIPTION:Free Seminar on\n\nEye Rejuvenation\n\n\n\nPoughkeepsie\, NY   On Wednesday\, May 30\, 2018\, Facial Plastic Reconstructive and Laser Surgery with Oasis Medispa will offer a free seminar on the latest options for eye rejuvenation. This will include both surgical and nonsurgical procedures\, many of which require virtually no down-time and provide immediate gratification.\n\n\n\nThe seminar will be hosted by practice owner\, double board certified and fellowship trained local Facial Plastic Surgeon Manoj T. Abraham\, M.D.\, F.A.C.S.\, featured Hudson Valley Magazine Top Doctor for 2017\, and co-host board certified and fellowship trained Manhattan Facial Plastic Surgeon Michael Bassiri-Tehrani\, M.D. who specializes exclusively in cosmetic and reconstructive procedures of the nose\, face and neck. Complementing them will be newest member of the practice\, Manhattan oculofacial plastic surgeon Yogita Kashyap\, M.D.\, who specializes exclusively in cosmetic and reconstructive procedures of the eyes\, eyelids\, and surrounding structures.\n\n\n\nPresented as an open forum\, the seminar will encourage members of the audience to ask questions and engage in dialogue with the experts to learn about their various options. Patients who have already had facial rejuvenation procedures will be on hand to provide a personal first-hand account of their experience and results. The hosts will be joined by the practice's world class team of aestheticians\, massage therapists\, physician assistant Ryan Young\, PA-C\; and Manhattan Body Surgeon Dr. Dana Khuthaila\, M.D. F.R.C.S.C. F.A.C.S. who specializes in breast and body contouring.\n\n\n\nThe free event will be held from 5 - 7 p.m. in the practice's Poughkeepsie office at 82 North Water Street located in the Poughkeepsie Waterfront adjacent to the train station\, near The Walkway over the Hudson. Catered by Lola's Caf \, refreshments will feature locally-sourced hors d'oeuvres and beverages. Participants will also enjoy specials\, a raffle and gift items.\n\n\n\nSpace is limited so interested attendees should RSVP by calling 845-454-8025. For more information\, please visit www.NYfaceMD.com.
X-ALT-DESC;FMTTYPE=text/html:<strong>Free Seminar on<br />\nEye Rejuvenation</strong><br />\n<br />\nPoughkeepsie\, NY &ndash\; On Wednesday\, May 30\, 2018\, Facial Plastic Reconstructive and Laser Surgery with Oasis Medispa will offer a free seminar on the latest options for eye rejuvenation. This will include both surgical and nonsurgical procedures\, many of which require virtually no down-time and provide immediate gratification.<br />\n<br />\nThe seminar will be hosted by practice owner\, double board certified and fellowship trained local Facial Plastic Surgeon Manoj T. Abraham\, M.D.\, F.A.C.S.\, featured Hudson Valley Magazine Top Doctor for 2017\, and co-host board certified and fellowship trained Manhattan Facial Plastic Surgeon Michael Bassiri-Tehrani\, M.D. who specializes exclusively in cosmetic and reconstructive procedures of the nose\, face and neck. Complementing them will be newest member of the practice\, Manhattan oculofacial plastic surgeon Yogita Kashyap\, M.D.\, who specializes exclusively in cosmetic and reconstructive procedures of the eyes\, eyelids\, and surrounding structures.<br />\n<br />\nPresented as an open forum\, the seminar will encourage members of the audience to ask questions and engage in dialogue with the experts to learn about their various options. Patients who have already had facial rejuvenation procedures will be on hand to provide a personal first-hand account of their experience and results. The hosts will be joined by the practice&rsquo\;s world class team of aestheticians\, massage therapists\, physician assistant Ryan Young\, PA-C\; and Manhattan Body Surgeon Dr. Dana Khuthaila\, M.D. F.R.C.S.C. F.A.C.S. who specializes in breast and body contouring.<br />\n<br />\nThe free event will be held from 5 - 7 p.m. in the practice&rsquo\;s Poughkeepsie office at 82 North Water Street located in the Poughkeepsie Waterfront adjacent to the train station\, near The Walkway over the Hudson. Catered by Lola&rsquo\;s Caf&eacute\;\, refreshments will feature locally-sourced hors d&rsquo\;oeuvres and beverages. Participants will also enjoy specials\, a raffle and gift items.<br />\n<br />\nSpace is limited so interested attendees should RSVP by calling 845-454-8025. For more information\, please visit <a href="http://www.NYfaceMD.com" target="_blank"><strong>www.NYfaceMD.com</strong></a>.
LOCATION:The free event will be held from 5 - 7 p.m. in the practice's Poughkeepsie office at 82 North Water Street located in the Poughkeepsie NY Waterfront adjacent to the train station\, near The Walkway over the Hudson.
UID:e.2770.10477635
SEQUENCE:3
DTSTAMP:20260425T181923Z
URL:https://business.dcrcoc.org/events/details/free-seminar-on-eye-rejuvenation-05-30-2018-10477635
END:VEVENT

END:VCALENDAR
