BEGIN:VCALENDAR
VERSION:2.0
PRODID:-//ChamberMaster//Event Calendar 2.0//EN
METHOD:PUBLISH
X-PUBLISHED-TTL:P3D
REFRESH-INTERVAL:P3D
CALSCALE:GREGORIAN
BEGIN:VEVENT
DTSTART:20171207T220000Z
DTEND:20171208T000000Z
X-MICROSOFT-CDO-ALLDAYEVENT:FALSE
SUMMARY:Free Seminar on the Latest Facelift Options
DESCRIPTION:On Thursday\, December 7\, 2017\, Facial Plastic Reconstructive and Laser Surgery with Oasis Medispa will offer a free seminar on the latest facelift options\, including many that require virtually no down-time and provide immediate gratification.\n\n\n\nThe seminar will be hosted by practice owner\, double board certified and fellowship trained local Facial Plastic Surgeon Manoj T. Abraham\, M.D.\, F.A.C.S.\, featured Hudson Valley Magazine Top Doctor for 2017\, and co-hosted by board certified and fellowship trained Manhattan Facial Plastic Surgeon Michael Bassiri\, M.D. who specializes exclusively in cosmetic and reconstructive procedures of the nose\, face and neck.\n\n\n\nPresented as an open forum\, the seminar will encourage members of the audience to ask questions and engage in dialogue with the experts to learn about their various options. Patients who have already had facial rejuvenation procedures will be on hand to provide a personal\, first-hand account of their experience and results. The hosts will be joined by the practice's world class team of aestheticians\, massage therapists\, physician assistant Ryan Young PA-C\; Manhattan Body Surgeon Dr. Dana Khuthaila M.D. F.R.C.S.C. F.A.C.S. who specializes in breast and body contouring\; and Manhattan oculofacial plastic surgeon Dr. Yogita Kashyap\, who specializes exclusively in cosmetic and reconstructive procedures of the eyes\, eyelids\, and surrounding structures.\n\n\n\nThe free event will be held from 5 - 7 p.m. in the practice's Poughkeepsie office at 82 North Water Street located in the Poughkeepsie Waterfront adjacent to the train station\, near The Walkway Over the Hudson. Catered by Lola's Caf \, refreshments will feature locally-sourced ingredients and holiday cocktails. Participants will also enjoy specials\, a raffle and gift items.\n\n\n\nSpace is limited\, so interested attendees should RSVP by calling 845-454-8025.\n\nFor more information\, please visit www.NYfaceMD.com.
X-ALT-DESC;FMTTYPE=text/html:On Thursday\, December 7\, 2017\, Facial Plastic Reconstructive and Laser Surgery with Oasis Medispa will offer a free seminar on the latest facelift options\, including many that require virtually no down-time and provide immediate gratification.<br />\n<br />\nThe seminar will be hosted by practice owner\, double board certified and fellowship trained local Facial Plastic Surgeon Manoj T. Abraham\, M.D.\, F.A.C.S.\, featured Hudson Valley Magazine Top Doctor for 2017\, and co-hosted by board certified and fellowship trained Manhattan Facial Plastic Surgeon Michael Bassiri\, M.D. who specializes exclusively in cosmetic and reconstructive procedures of the nose\, face and neck.<br />\n<br />\nPresented as an open forum\, the seminar will encourage members of the audience to ask questions and engage in dialogue with the experts to learn about their various options. Patients who have already had facial rejuvenation procedures will be on hand to provide a personal\, first-hand account of their experience and results. The hosts will be joined by the practice&rsquo\;s world class team of aestheticians\, massage therapists\, physician assistant Ryan Young PA-C\; Manhattan Body Surgeon Dr. Dana Khuthaila M.D. F.R.C.S.C. F.A.C.S. who specializes in breast and body contouring\; and Manhattan oculofacial plastic surgeon Dr. Yogita Kashyap\, who specializes exclusively in cosmetic and reconstructive procedures of the eyes\, eyelids\, and surrounding structures.<br />\n<br />\nThe free event will be held from 5 - 7 p.m. in the practice&rsquo\;s Poughkeepsie office at 82 North Water Street located in the Poughkeepsie Waterfront adjacent to the train station\, near The Walkway Over the Hudson. Catered by Lola&rsquo\;s Caf&eacute\;\, refreshments will feature locally-sourced ingredients and holiday cocktails. Participants will also enjoy specials\, a raffle and gift items.<br />\n<br />\n<strong>Space is limited\, so interested attendees should RSVP by calling 845-454-8025.</strong><br />\nFor more information\, please visit&nbsp\;<a href="http://www.NYfaceMD.com" target="_blank">www.NYfaceMD.com.</a>
LOCATION:The Poughkeepsie office of Facial Plastic Reconstructive and Laser Surgery and Oasis Medispa 82 North Water Street Poughkeepsie NY (Located in the Poughkeepsie Waterfront\, adjacent to the train station\, near the Walkway Over the Hudson)
UID:e.2770.10476308
SEQUENCE:3
DTSTAMP:20260426T004940Z
URL:https://business.dcrcoc.org/events/details/free-seminar-on-the-latest-facelift-options-10476308
END:VEVENT

END:VCALENDAR
