BEGIN:VCALENDAR
VERSION:2.0
PRODID:-//ChamberMaster//Event Calendar 2.0//EN
METHOD:PUBLISH
X-PUBLISHED-TTL:P3D
REFRESH-INTERVAL:P3D
CALSCALE:GREGORIAN
BEGIN:VEVENT
DTSTART:20190411T210000Z
DTEND:20190411T230000Z
X-MICROSOFT-CDO-ALLDAYEVENT:FALSE
SUMMARY:FREE SEMINAR: SPRING SKIN SCULPTING
DESCRIPTION:Free Seminar on\n\nFat Removal & Skin Tightening\n\n\nPoughkeepsie\, NY   On Thursday\, April 11\, 2019\, Facial Plastic Reconstructive and Laser Surgery with Oasis Medispa will offer a free seminar on the latest options for fat removal and skin tightening. This will include nonsurgical procedures\, all of which require virtually no down-time and provide satisfying gratification. Featured will be the latest advancements in three minimally-invasive procedures: the very popular\, fat removal technique\, CoolSculpting \; in addition to two state-of-the-art skin-tightening modalities: Morpheus8 and Facetite .\n\n\n\nThe seminar will be hosted by practice owner\, double board certified and fellowship trained local Facial Plastic Surgeon Manoj T. Abraham\, M.D.\, F.A.C.S.\, the featured Hudson Valley Magazine 2019 Top Doctor\, @DrManojTAbraham.\n\n\n\nPresented as an open forum\, the seminar will encourage members of the audience to ask questions and engage in dialogue to learn about the various options.\n\n\n\nDr. Abraham's practice Facial Plastic Reconstructive & Laser Surgery\, PLLC features a world-class team representing a full complement of plastic surgery specialties (facial\, body and eye) as well as a full-service medispa. In addition to owner facial plastic surgeon Dr. Manoj T. Abraham MD FACS\, this includes Manhattan body surgeon Dr. Dana Khuthaila MD FRCSC FACS\, who specializes in breast and body contouring\; Dr. Michael Bassiri-Tehrani\, who specializes exclusively in cosmetic and reconstructive procedures of the nose\, face and neck\; Dr. Yogita Kashyap\, a Manhattan oculofacial plastic surgeon specializing exclusively in cosmetic and reconstructive procedures of the eyes\, eyelids\, and surrounding structures\; physician assistant Ryan Young PA-C\; as well as aestheticians and massage therapists. In addition\, the office features a fully accredited operating suite.\n\n\n\nThe free event will be held from 5 - 7 p.m. in the practice's Poughkeepsie office at 82 North Water Street located in the Poughkeepsie Waterfront adjacent to the train station\, near The Walkway over the Hudson. Catered refreshments will feature locally-sourced hors d'oeuvres and cocktails. Participants will also enjoy specials\, a raffle and gift items.\n\n\n\nSpace is limited so interested attendees should RSVP by calling 845-367-7328. Dr. Abraham also has offices in Manhattan and Westchester.  For more information\, please visit NYfaceMD.com
X-ALT-DESC;FMTTYPE=text/html:<h1><span style="font-size: 16px\;"><strong>Free Seminar on<br />\nFat Removal &amp\; Skin Tightening</strong></span></h1>\n<br />\nPoughkeepsie\, NY &ndash\; On Thursday\, April 11\, 2019\, Facial Plastic Reconstructive and Laser Surgery with Oasis Medispa will offer a free seminar on the latest options for fat removal and skin tightening. This will include nonsurgical procedures\, all of which require virtually no down-time and provide satisfying gratification. Featured will be the latest advancements in three minimally-invasive procedures: the very popular\, fat removal technique\, CoolSculpting&reg\;\; in addition to two state-of-the-art skin-tightening modalities: Morpheus8 and Facetite&trade\;.<br />\n<br />\nThe seminar will be hosted by practice owner\, double board certified and fellowship trained local Facial Plastic Surgeon Manoj T. Abraham\, M.D.\, F.A.C.S.\, the featured Hudson Valley Magazine 2019 Top Doctor\, @DrManojTAbraham.<br />\n<br />\nPresented as an open forum\, the seminar will encourage members of the audience to ask questions and engage in dialogue to learn about the various options.<br />\n<br />\nDr. Abraham&#39\;s practice Facial Plastic Reconstructive &amp\; Laser Surgery\, PLLC features a world-class team representing a full complement of plastic surgery specialties (facial\, body and eye) as well as a full-service medispa. In addition to owner facial plastic surgeon Dr. Manoj T. Abraham MD FACS\, this includes Manhattan body surgeon Dr. Dana Khuthaila MD FRCSC FACS\, who specializes in breast and body contouring\; Dr. Michael Bassiri-Tehrani\, who specializes exclusively in cosmetic and reconstructive procedures of the nose\, face and neck\; Dr. Yogita Kashyap\, a Manhattan oculofacial plastic surgeon specializing exclusively in cosmetic and reconstructive procedures of the eyes\, eyelids\, and surrounding structures\; physician assistant Ryan Young PA-C\; as well as aestheticians and massage therapists. In addition\, the office features a fully accredited operating suite.<br />\n<br />\nThe free event will be held from 5 - 7 p.m. in the practice&rsquo\;s Poughkeepsie office at 82 North Water Street located in the Poughkeepsie Waterfront adjacent to the train station\, near The Walkway over the Hudson. Catered refreshments will feature locally-sourced hors d&rsquo\;oeuvres and cocktails. Participants will also enjoy specials\, a raffle and gift items.<br />\n<br />\nSpace is limited so interested attendees should RSVP by calling 845-367-7328. Dr. Abraham also has offices in Manhattan and Westchester.&nbsp\; For more information\, please visit <a href="http://NYfaceMD.com">NYfaceMD.com</a><br />\n<br />\n<br />\n&nbsp\;
LOCATION:The Offices of Facial Plastic Reconstructive & Laser Surgery and Oasis MediSpa\, 82 North Water Street located in the Poughkeepsie NY Waterfront adjacent to the train station\, near The Walkway over the Hudson
UID:e.2770.10480563
SEQUENCE:3
DTSTAMP:20260423T062639Z
URL:https://business.dcrcoc.org/events/details/free-seminar-spring-skin-sculpting-10480563
END:VEVENT

END:VCALENDAR
