BEGIN:VCALENDAR
VERSION:2.0
PRODID:-//ChamberMaster//Event Calendar 2.0//EN
METHOD:PUBLISH
X-PUBLISHED-TTL:P3D
REFRESH-INTERVAL:P3D
CALSCALE:GREGORIAN
BEGIN:VEVENT
DTSTART;VALUE=DATE:20191116
DTEND;VALUE=DATE:20191117
TRANSP:TRANSPARENT
X-MICROSOFT-CDO-ALLDAYEVENT:TRUE
SUMMARY:Free to attend Wellness Day at Stone Wave Yoga Poughkeepsie
DESCRIPTION:FREE COMMUNITY WELLNESS DAY\n\nSATURDAY NOVEMBER 16th\n\nFREE CLASSES ALL DAY\n\n WELLNESS DAY\n \n\nFREE TO ATTEND \n\nYOGA AND BARRE CLASSES BY\n\nBARRE FITNESS OF POUGHKEEPSIE \n\nAND STONE WAVE YOGA POUGHKEEPSIE \n\n7:45am\, 9am\, 10:30am - Yoga\n\n12:30pm - Barre (FULL)\n\n4:30pm - Hot 26 \n\n1:00 PM - 1:30 PM - WARLOCK FITNESS DEMO CLASS\n\n1:30 PM - FREE WORKSHOP ON NUTRITION AND WEIGHT LOSS WITH MOVE THE NEEDLE\n\n3:00 PM - ASANA LAB WITH LISA. EXPLORE YOGA POSES\n\nFREE SAMPLES BY CHAKRA BOWLS AND OTHER GIVEAWAYS AND OFFERS BY OUR EVENT PARTNERS WHEELHOUSE AND ALL SHOOK UP!
X-ALT-DESC;FMTTYPE=text/html:<p style="text-align:center"><span style="font-size:22px"><span style="color:#008080"><strong>FREE COMMUNITY WELLNESS DAY</strong></span></span></p>\n\n<p style="text-align:center"><span style="font-size:22px"><span style="color:#008080"><strong>SATURDAY NOVEMBER 16th</strong></span></span></p>\n\n<p style="text-align:center"><strong>FREE CLASSES ALL DAY</strong></p>\n\n<p style="text-align:center"><strong>&nbsp\;WELLNESS DAY</strong></p>\n&nbsp\;\n\n<p style="text-align:center"><strong>FREE TO ATTEND</strong><strong>&nbsp\;</strong></p>\n\n<p style="text-align:center"><strong>YOGA AND BARRE CLASSES BY</strong></p>\n\n<p style="text-align:center"><strong>BARRE FITNESS OF POUGHKEEPSIE&nbsp\;</strong></p>\n\n<p style="text-align:center"><strong>AND STONE WAVE YOGA POUGHKEEPSIE&nbsp\;</strong></p>\n\n<p style="text-align:center"><strong>7:45am\, 9am\, 10:30am - Yoga</strong></p>\n\n<p style="text-align:center"><strong>12:30pm - Barre (FULL)</strong></p>\n\n<p style="text-align:center"><strong>4:30pm - Hot 26&nbsp\;</strong></p>\n\n<p style="text-align:center"><strong>1:00 PM - 1:30 PM - WARLOCK FITNESS&nbsp\;</strong><strong>DEMO CLASS</strong></p>\n\n<p style="text-align:center"><strong>1:30 PM - FREE WORKSHOP ON NUTRITION AND WEIGHT LOSS WITH MOVE THE NEEDLE</strong></p>\n\n<p style="text-align:center"><strong>3:00 PM - ASANA LAB WITH LISA. EXPLORE YOGA POSES</strong></p>\n\n<p style="text-align:center"><strong>FREE SAMPLES BY CHAKRA BOWLS AND OTHER GIVEAWAYS AND OFFERS BY OUR EVENT PARTNERS WHEELHOUSE AND ALL SHOOK UP!</strong></p>\n\n<p style="text-align:center"><br />\n<br />\n&nbsp\;</p>\n\n<div>&nbsp\;</div>\n
LOCATION:Stone Wave Yoga Poughkeepsie 2 LaGrange Avenue Suite 206 Poughkeepsie\, NY 12603
UID:e.2770.10482564
SEQUENCE:3
DTSTAMP:20260422T171134Z
URL:https://business.dcrcoc.org/events/details/free-to-attend-wellness-day-at-stone-wave-yoga-poughkeepsie-10482564
END:VEVENT

END:VCALENDAR
