BEGIN:VCALENDAR
VERSION:2.0
PRODID:-//ChamberMaster//Event Calendar 2.0//EN
METHOD:PUBLISH
X-PUBLISHED-TTL:P3D
REFRESH-INTERVAL:P3D
CALSCALE:GREGORIAN
BEGIN:VEVENT
DTSTART:20200624T163000Z
DTEND:20200624T173000Z
X-MICROSOFT-CDO-ALLDAYEVENT:FALSE
SUMMARY:FREE WEBINAR: Commercial Leases During COVID-19: Legal and Practical Issues Facing Commercial Landlords & Tenants as NY Reopens
DESCRIPTION:Join Keane & Beane attorneys Andrew P. Tureaud and Eric T. Kolle\, and Craig Ruoff\, Senior Director at Cushman & Wakefield\, as they discuss important issues facing commercial landlords and tenants in New York as a result of the COVID-19 pandemic in the light of the current moratorium on evictions.
X-ALT-DESC;FMTTYPE=text/html:<span style="background-color:rgb(254\, 254\, 254)\; color:rgb(0\, 0\, 0)\; font-family:georgia\,times new roman\,times\,serif\; font-size:19px">Join Keane &amp\; Beane attorneys Andrew P. Tureaud and&nbsp\;Eric T. Kolle\, and Craig Ruoff\, Senior Director at Cushman &amp\; Wakefield\, as they discuss important issues facing commercial landlords and tenants in New York as a result of the COVID-19 pandemic in the light of the current moratorium on evictions.</span>
LOCATION:Zoom Webinar SIGN UP: bdurkin@kblaw.com (email access link will be sent the morning of the event)
UID:e.2770.10483329
SEQUENCE:3
DTSTAMP:20260422T051342Z
URL:https://business.dcrcoc.org/events/details/free-webinar-commercial-leases-during-covid-19-legal-and-practical-issues-facing-commercial-landlords-tenants-as-ny-reopens-10483329
END:VEVENT

END:VCALENDAR
