BEGIN:VCALENDAR
VERSION:2.0
PRODID:-//ChamberMaster//Event Calendar 2.0//EN
METHOD:PUBLISH
X-PUBLISHED-TTL:P3D
REFRESH-INTERVAL:P3D
CALSCALE:GREGORIAN
BEGIN:VEVENT
DTSTART:20200423T180000Z
DTEND:20200423T183000Z
X-MICROSOFT-CDO-ALLDAYEVENT:FALSE
SUMMARY:Free Webinar Series: Put a mobile workforce in place with a secure\, easy-to-implement cloud document management solution
DESCRIPTION:The measures we are all taking to contain Covid-19 present both personal and business challenges.  Our free webinar series offers business continuity options through a document management system that keeps your employees connected and offers a remote way to participate in business processes. Take the stress off during these challenging times\; attend our free webinars and learn strategies to make life in a home office and everyday work easier.
X-ALT-DESC;FMTTYPE=text/html:<span style="color:rgb(53\, 53\, 53)\; font-family:avenirnextltw01-regular\,serif\; font-size:16px">The measures we are all taking to contain Covid-19 present both personal and business challenges.&nbsp\; Our free webinar series offers business continuity options through&nbsp\;</span><span style="color:rgb(53\, 53\, 53)\; font-family:avenirnextltw01-regular\,serif\; font-size:16.8px">a document management system that keeps your employees connected and offers a remote way to participate in business processes. Take the stress off during these challenging times\; attend our free webinars and learn strategies to make life in a home office and everyday work easier.</span>
LOCATION:Webinar - register on our website: https://start.docuware.com/info/business-continuity-mobile-workforce-webinar-series?utm_campaign=Supporting%20Mobile%20Workforce%20Webinars&utm_source=hs_email&utm_medium=email&utm_content=2&_hsenc=p2ANqtz-9o3ZKb-2hbC382ALfSWC1vbftOimc8MA6E3AXsGK4grDBZVXJXMOIpXHAl4avL2POh_vuoFhSboakPmod6v_Cfm9Ix9uSjN6lkOl0hP7TIEGSMiDE&_hsmi=2
UID:e.2770.10483261
SEQUENCE:3
DTSTAMP:20260422T090935Z
URL:https://business.dcrcoc.org/events/details/free-webinar-series-put-a-mobile-workforce-in-place-with-a-secure-easy-to-implement-cloud-document-management-solution-10483261
END:VEVENT

END:VCALENDAR
