BEGIN:VCALENDAR
VERSION:2.0
PRODID:-//ChamberMaster//Event Calendar 2.0//EN
METHOD:PUBLISH
X-PUBLISHED-TTL:P3D
REFRESH-INTERVAL:P3D
CALSCALE:GREGORIAN
BEGIN:VEVENT
DTSTART:20180131T190000Z
DTEND:20180131T193000Z
X-MICROSOFT-CDO-ALLDAYEVENT:FALSE
SUMMARY:Free Webinar: What You Need to Know if Your Company is Thinking of Going Solar
DESCRIPTION:SolarKal is hosting a webinar on January 31 at 2 p.m. The webinar is ideal for New York businesses who are considering making the transition to solar energy but are not sure if solar is a good fit. The free webinar starts at 2pm ET and will last for approximately a half hour\, including a Q&A at the end. Participants must pre-register. By the end of the half-hour webinar\, attendees will have a stronger understanding of the financial savings and environmental benefits that New York businesses receive by switching to solar energy and best practices on how to manage the process. Topics include tips on choosing a vendor and equipment\, tax incentives\, financing options\, timeline\, impact on business and the benefits of using a solar broker vs. going direct to an installer.
X-ALT-DESC;FMTTYPE=text/html:SolarKal is hosting a webinar on January 31 at 2 p.m. The webinar is ideal for New York businesses who are considering making the transition to solar energy but are not sure if solar is a good fit. The free webinar starts at 2pm ET and will last for approximately a half hour\, including a Q&amp\;A at the end. Participants must pre-register. By the end of the half-hour webinar\, attendees will have a stronger understanding of the financial savings and environmental benefits that New York businesses receive by switching to solar energy and best practices on how to manage the process. Topics include tips on choosing a vendor and equipment\, tax incentives\, financing options\, timeline\, impact on business and the benefits of using a solar broker vs. going direct to an installer.
LOCATION:https://zoom.us/webinar/register/WN_LWKJ6ulOT5GocNKes6SrYA
UID:e.2770.10476742
SEQUENCE:3
DTSTAMP:20260425T232522Z
URL:https://business.dcrcoc.org/events/details/free-webinar-what-you-need-to-know-if-your-company-is-thinking-of-going-solar-10476742
END:VEVENT

END:VCALENDAR
