BEGIN:VCALENDAR
VERSION:2.0
PRODID:-//ChamberMaster//Event Calendar 2.0//EN
METHOD:PUBLISH
X-PUBLISHED-TTL:P3D
REFRESH-INTERVAL:P3D
CALSCALE:GREGORIAN
BEGIN:VEVENT
DTSTART:20190709T213000Z
DTEND:20190709T233000Z
X-MICROSOFT-CDO-ALLDAYEVENT:FALSE
SUMMARY:Fresenius Beacon Open House
DESCRIPTION:Join us for our open house! Our new Fresenius Kidney Care dialysis center is open and ready to welcome new patients. Come meet our expert care team and learn how we work with you every step of the way. Together\, we're helping people with kidney disease lead fuller\, more active and vibrant lives.
X-ALT-DESC;FMTTYPE=text/html:Join us for our open house! Our new Fresenius Kidney Care dialysis center is open and ready to welcome new patients. Come meet our expert care team and learn how we work with you every step of the way. Together\, we&#39\;re helping people with kidney disease lead fuller\, more active and vibrant lives.
LOCATION:Fresenius Beacon 1485 Route 9D Wappingers Falls\, NY 12590
UID:e.2770.10480981
SEQUENCE:3
DTSTAMP:20260423T011544Z
URL:https://business.dcrcoc.org/events/details/fresenius-beacon-open-house-10480981
END:VEVENT

END:VCALENDAR
