BEGIN:VCALENDAR
VERSION:2.0
PRODID:-//ChamberMaster//Event Calendar 2.0//EN
METHOD:PUBLISH
X-PUBLISHED-TTL:P3D
REFRESH-INTERVAL:P3D
CALSCALE:GREGORIAN
BEGIN:VEVENT
DTSTART;VALUE=DATE:20190323
DTEND;VALUE=DATE:20190324
TRANSP:TRANSPARENT
X-MICROSOFT-CDO-ALLDAYEVENT:TRUE
SUMMARY:Fresh Air Fund's Sharpe Reservation Maple Celebration
DESCRIPTION:A Sugar Maple Celebration\n\nDiscover the wonders of Sharpe Reservation at The Fresh Air Fund's annual Sugar Maple Celebration. Save the date: March 23\, 2019!\n\nThe special FREE event will include: Maple Sugaring Demonstration\, Historical Characters of Sharpe\, Nature Discovery Room\, Planetarium\, Live Animal Show\, Local Crafts and Food Market\, and Annual Maple Syrup Judging Contest. \n\nLunch is available for purchase (all sales are cash only).\n\nFor more information call us at 845-897-4320. This event is co-sponsored by The New York State Outdoor Education Association.\n\nView last year's full schedule here!\n\nDownload our 2019 flyer.
X-ALT-DESC;FMTTYPE=text/html:<h1><span style="color: rgb(0\, 0\, 205)\;">A Sugar Maple Celebration</span></h1>\n\n<p>Discover the wonders of Sharpe Reservation at The Fresh Air Fund&#39\;s annual Sugar Maple Celebration. Save the date: March 23\, 2019!</p>\n\n<p>The special <span style="color: rgb(65\, 168\, 95)\;"><strong>FREE&nbsp\;</strong></span>event will include: Maple Sugaring Demonstration\, Historical Characters of Sharpe\, Nature Discovery Room\, Planetarium\, Live Animal Show\, Local Crafts and Food Market\, and Annual Maple Syrup Judging Contest.&nbsp\;</p>\n\n<p>Lunch is available for purchase (all sales are cash only).</p>\n\n<p>For more information call us at 845-897-4320. This event is co-sponsored by The New York State Outdoor Education Association.</p>\n\n<p>View last year&#39\;s full schedule <strong><a href="http://www.freshair.org/Websites/freshairfund/images/Maple%20Schedule%202018.pdf" target="_blank">here</a>!</strong></p>\n\n<p>Download our 2019 <a href="http://www.freshair.org/Websites/freshairfund/images/The%20Fresh%20Air%20Fund's%20Sharpe%20Reservation%202019%20Sugar%20Maple%20Celebration.pdf">flyer</a>.</p>\n
LOCATION:436 Van Wyck Lake Road Fishkill NY 12524
UID:e.2770.10480565
SEQUENCE:3
DTSTAMP:20260423T081714Z
URL:https://business.dcrcoc.org/events/details/fresh-air-fund-s-sharpe-reservation-maple-celebration-10480565
END:VEVENT

END:VCALENDAR
