BEGIN:VCALENDAR
VERSION:2.0
PRODID:-//ChamberMaster//Event Calendar 2.0//EN
METHOD:PUBLISH
X-PUBLISHED-TTL:P3D
REFRESH-INTERVAL:P3D
CALSCALE:GREGORIAN
BEGIN:VEVENT
DTSTART:20180629T210000Z
DTEND:20180901T000000Z
X-MICROSOFT-CDO-ALLDAYEVENT:FALSE
SUMMARY:Friday Night Food Trucks
DESCRIPTION:Celebrate the start of the weekend and take advantage of summer sunsets from our Taproom Terrace with ala carte\, family friendly menus from local food trucks. Our tap wine will be available for $5/glass. We'll set up the cornhole and bocce games or feel free to bring your own lawn games to play on the front lawn. Each date we will also feature live music from local performers. Featured Food Trucks Will Include: June 29\, 2018: HV Farmers and Chefs & Thailicious July 6\, 2018: The Grille Wagon & Hudson Valley Gyro July 13\, 2018: Mole Mole & Frites of NY July 20\, 2018: HV Farmers and Chef & Weenie Lynns July 27\, 2018: The Grille Wagon and Thailicious August 3\, 2018: Mole Mole & Hudson Valley Gyro August 10\, 2018: HV Farmers and Chef & Frites of NY August 17\, 2018: The Grille Wagon & Weenie Lynns August 24\, 2018: Mole Mole & Thailicious August 31\, 2018: HV Farmers and Chefs & Hudson Valley Gyro
X-ALT-DESC;FMTTYPE=text/html:Celebrate the start of the weekend and take advantage of summer sunsets from our Taproom Terrace with ala carte\, family friendly menus from local food trucks. Our tap wine will be available for $5/glass. We&rsquo\;ll set up the cornhole and bocce games or feel free to bring your own lawn games to play on the front lawn. Each date we will also feature live music from local performers. Featured Food Trucks Will Include: June 29\, 2018: HV Farmers and Chefs &amp\; Thailicious July 6\, 2018: The Grille Wagon &amp\; Hudson Valley Gyro July 13\, 2018: Mole Mole &amp\; Frites of NY July 20\, 2018: HV Farmers and Chef &amp\; Weenie Lynns July 27\, 2018: The Grille Wagon and Thailicious August 3\, 2018: Mole Mole &amp\; Hudson Valley Gyro August 10\, 2018: HV Farmers and Chef &amp\; Frites of NY August 17\, 2018: The Grille Wagon &amp\; Weenie Lynns August 24\, 2018: Mole Mole &amp\; Thailicious August 31\, 2018: HV Farmers and Chefs &amp\; Hudson Valley Gyro
LOCATION:Millbrook Vineyard & Winery 26 Wing Road Millbrook\, NY 12545
UID:e.2770.10479291
SEQUENCE:3
DTSTAMP:20260425T144233Z
URL:https://business.dcrcoc.org/events/details/friday-night-food-trucks-10479291
END:VEVENT

END:VCALENDAR
