BEGIN:VCALENDAR
VERSION:2.0
PRODID:-//ChamberMaster//Event Calendar 2.0//EN
METHOD:PUBLISH
X-PUBLISHED-TTL:P3D
REFRESH-INTERVAL:P3D
CALSCALE:GREGORIAN
BEGIN:VEVENT
DTSTART:20171021T003000Z
DTEND:20171021T033000Z
X-MICROSOFT-CDO-ALLDAYEVENT:FALSE
SUMMARY:Full Throttle comes to The Alley Kat!
DESCRIPTION:Full Throttle brings classic Rock & Roll to the Alley Kat this Friday night! Reality Check Duo will get the night hopping with a one hour open set then Full Throttle will takeover! A wide selection of draft beer\, great food and appetizers\, no cover and two incredibly talented bands - what more can you ask for!\n\n\n\nCheck out the event details on our Facebook page:\n\nFull Throttle comes to The Alley Kat!
X-ALT-DESC;FMTTYPE=text/html:<span style="color:rgb(75\, 79\, 86)\; font-family:sf optimized\,system-ui\,-apple-system\,blinkmacsystemfont\,.sfnstext-regular\,sans-serif\; font-size:14px">Full Throttle brings classic Rock &amp\; Roll to the Alley Kat this Friday night! Reality Check Duo will get the night hopping with a one hour open set then Full Throttle will takeover! A wide selection of draft beer\, great food and appetizers\, no cover and two incredibly talented bands - what more can you ask for!</span><br />\n<br />\nCheck out the event details on our Facebook page:<br />\n<a href="https://www.facebook.com/events/1963816067241120/?acontext=%7B%22ref%22%3A%223%22%2C%22ref_newsfeed_story_type%22%3A%22regular%22%2C%22feed_story_type%22%3A%22117%22%2C%22action_history%22%3A%22null%22%7D">Full Throttle comes to The Alley Kat!</a><br />\n&nbsp\;\n<h1>&nbsp\;</h1>\n
LOCATION:The Alley Kat 1677 US 9 Wappingers Falls\, New York\, NY 12590
UID:e.2770.10476373
SEQUENCE:3
DTSTAMP:20260426T033526Z
URL:https://business.dcrcoc.org/events/details/full-throttle-comes-to-the-alley-kat-10476373
END:VEVENT

END:VCALENDAR
