BEGIN:VCALENDAR
VERSION:2.0
PRODID:-//ChamberMaster//Event Calendar 2.0//EN
METHOD:PUBLISH
X-PUBLISHED-TTL:P3D
REFRESH-INTERVAL:P3D
CALSCALE:GREGORIAN
BEGIN:VEVENT
DTSTART:20180311T013000Z
DTEND:20180311T043000Z
X-MICROSOFT-CDO-ALLDAYEVENT:FALSE
SUMMARY:Full Throttle Rock & Roll Plays At The Alley Kat!
DESCRIPTION:Full Throttle brings classic Rock & Roll to the Alley Kat! The Alley Kat offers a wide selection of draft beer\, a fully stocked bar\, great food and appetizers - enough said!\n\n\n\n \nCheck out the event details on our Facebook page:\n\nFull Throttle plays The Alley Kat!
X-ALT-DESC;FMTTYPE=text/html:<div><span style="color:rgb(75\, 79\, 86)\; font-family:system-ui\,-apple-system\,blinkmacsystemfont\,.sfnstext-regular\,sans-serif\; font-size:14px">Full Throttle brings classic Rock &amp\; Roll to the Alley Kat! The Alley Kat offers a wide selection of draft beer\, a fully stocked bar\, great food and appetizers - enough said!</span><br />\n<br />\n&nbsp\;</div>\nCheck out the event details on our Facebook page:<br />\n<a href="https://www.facebook.com/events/215538149009997/">Full Throttle plays The Alley Kat!</a>
LOCATION:The Alley Kat 1677 US 9 Wappingers Falls\, New York\, NY 12590
UID:e.2770.10476829
SEQUENCE:3
DTSTAMP:20260425T210534Z
URL:https://business.dcrcoc.org/events/details/full-throttle-rock-roll-plays-at-the-alley-kat-10476829
END:VEVENT

END:VCALENDAR
