BEGIN:VCALENDAR
VERSION:2.0
PRODID:-//ChamberMaster//Event Calendar 2.0//EN
METHOD:PUBLISH
X-PUBLISHED-TTL:P3D
REFRESH-INTERVAL:P3D
CALSCALE:GREGORIAN
BEGIN:VEVENT
DTSTART:20180609T190000Z
DTEND:20180609T200000Z
X-MICROSOFT-CDO-ALLDAYEVENT:FALSE
SUMMARY:Fun House 2018: Artist Talks
DESCRIPTION:Join us on June 9th for an afternoon of talking with local artists who have been selected to be featured in Fun House 2018. \n\n\n\nFeatured Artists:\n\nDiane Falcone (Yonkers\, NY) \n\nCrescent Seo (Flushing\, NY)\n\nDavid Woehr (Tuckahoe\, NY) \n\n\n\nThere will be a reception with refreshments to follow after the Talks. This event is FREE and open to the public.
X-ALT-DESC;FMTTYPE=text/html:<span style="color:rgb(75\, 79\, 86)\; font-family:system-ui\,-apple-system\,system-ui\,.sfnstext-regular\,sans-serif\; font-size:14px">Join us on <strong>June 9th</strong> for an afternoon of talking with local artists who have been selected to be featured in Fun House 2018.&nbsp\;</span><br />\n<br />\n<strong><span style="color:rgb(75\, 79\, 86)\; font-family:system-ui\,-apple-system\,system-ui\,.sfnstext-regular\,sans-serif\; font-size:14px"><u>Featured Artists</u>:</span><br />\n<span style="color:rgb(75\, 79\, 86)\; font-family:system-ui\,-apple-system\,system-ui\,.sfnstext-regular\,sans-serif\; font-size:14px">Diane Falcone (Yonkers\, NY)&nbsp\;</span><br />\n<span style="color:rgb(75\, 79\, 86)\; font-family:system-ui\,-apple-system\,system-ui\,.sfnstext-regular\,sans-serif\; font-size:14px">Crescent Seo (Flushing\, NY)</span><br />\n<span style="color:rgb(75\, 79\, 86)\; font-family:system-ui\,-apple-system\,system-ui\,.sfnstext-regular\,sans-serif\; font-size:14px">David Woehr (Tuckahoe\, NY)&nbsp\;</span></strong><br />\n<br />\n<span style="color:rgb(75\, 79\, 86)\; font-family:system-ui\,-apple-system\,system-ui\,.sfnstext-regular\,sans-serif\; font-size:14px">There will be a reception with refreshments to follow after the Talks. This event is <strong>FREE</strong> and open to the public.</span>
LOCATION:Barrett Art Center 55 Noxon Street Poughkeepsie\, NY 12601
UID:e.2770.10477820
SEQUENCE:3
DTSTAMP:20260425T170832Z
URL:https://business.dcrcoc.org/events/details/fun-house-2018-artist-talks-10477820
END:VEVENT

END:VCALENDAR
