BEGIN:VCALENDAR
VERSION:2.0
PRODID:-//ChamberMaster//Event Calendar 2.0//EN
METHOD:PUBLISH
X-PUBLISHED-TTL:P3D
REFRESH-INTERVAL:P3D
CALSCALE:GREGORIAN
BEGIN:VEVENT
DTSTART:20171007T223000Z
DTEND:20171008T023000Z
X-MICROSOFT-CDO-ALLDAYEVENT:FALSE
SUMMARY:Gala of Angels
DESCRIPTION:Please join us for our gala of angels supporting Angels of Light.\n\nHonoring Jennifer Thorne and Joshua Mackey.\n\n Live auction with Butch Anderson.\n\nSilent Auction\n\nCuisine from local HV restaurants.\n\nOpen Bar\n\nLive band/DJ\n\nAngels of Light is a registered 501c3
X-ALT-DESC;FMTTYPE=text/html:Please join us for our gala of angels supporting Angels of Light.<br />\nHonoring Jennifer Thorne and Joshua Mackey.<br />\n&nbsp\;Live auction with Butch Anderson.<br />\nSilent Auction<br />\nCuisine from local HV restaurants.<br />\nOpen Bar<br />\nLive band/DJ<br />\nAngels of Light is a registered 501c3
LOCATION:Walbridge Farm 538 Route 343 Millbrook\, NY 12545
UID:e.2770.10476057
SEQUENCE:3
DTSTAMP:20260426T033323Z
URL:https://business.dcrcoc.org/events/details/gala-of-angels-10476057
END:VEVENT

END:VCALENDAR
