BEGIN:VCALENDAR
VERSION:2.0
PRODID:-//ChamberMaster//Event Calendar 2.0//EN
METHOD:PUBLISH
X-PUBLISHED-TTL:P3D
REFRESH-INTERVAL:P3D
CALSCALE:GREGORIAN
BEGIN:VEVENT
DTSTART:20191106T230000Z
DTEND:20191107T020000Z
X-MICROSOFT-CDO-ALLDAYEVENT:FALSE
SUMMARY:Game Dinner with Burgundies at the CIA
DESCRIPTION:Fall is one of the best times of the year to enjoy wild game\, so it is only appropriate that we celebrate with a four-course dinner expertly paired with French Burgundy wines. This mouthwatering meal will feature classic French dishes created with locally-sourced venison\, rabbit\, and pheasant. Don't miss out on this event!
X-ALT-DESC;FMTTYPE=text/html:Fall is one of the best times of the year to enjoy wild game\, so it is only appropriate that we celebrate with a four-course dinner expertly paired with French Burgundy wines. This mouthwatering meal will feature classic French dishes created with locally-sourced venison\, rabbit\, and pheasant. Don&rsquo\;t miss out on this event!
LOCATION:The Bocuse Restaurant at The Culinary Institute of America
UID:e.2770.10481030
SEQUENCE:3
DTSTAMP:20260422T171126Z
URL:https://business.dcrcoc.org/events/details/game-dinner-with-burgundies-at-the-cia-10481030
END:VEVENT

END:VCALENDAR
