BEGIN:VCALENDAR
VERSION:2.0
PRODID:-//ChamberMaster//Event Calendar 2.0//EN
METHOD:PUBLISH
X-PUBLISHED-TTL:P3D
REFRESH-INTERVAL:P3D
CALSCALE:GREGORIAN
BEGIN:VEVENT
DTSTART:20180403T160000Z
DTEND:20180520T160000Z
X-MICROSOFT-CDO-ALLDAYEVENT:FALSE
SUMMARY:Gang Awareness And Drug Abuse in the Community
DESCRIPTION:Event to take place at the Hellenic Center\, Park Ave. Poughkeepsie\, NY\, May 20 at 12pm.This seminar is directed to community members who would like to become more aware of the existing gang violence and drug abuse that occurs in our area. Event presented by NYS authories and NYS registered pharmacist who are experts in their fields. Please contact N. Kalogris for details at nkalogris@hotmail.com or 797-3680.
X-ALT-DESC;FMTTYPE=text/html:Event to take place at the Hellenic Center\, Park Ave. Poughkeepsie\, NY\, May 20 at 12pm.This seminar is directed to community members who would like to become more aware of the existing gang violence and drug abuse that occurs in our area. Event presented by NYS authories and NYS registered pharmacist who are experts in their fields. Please contact N. Kalogris for details at nkalogris@hotmail.com or 797-3680.
LOCATION:
UID:e.2770.10477192
SEQUENCE:3
DTSTAMP:20260425T182131Z
URL:https://business.dcrcoc.org/events/details/gang-awareness-and-drug-abuse-in-the-community-10477192
END:VEVENT

END:VCALENDAR
