BEGIN:VCALENDAR
VERSION:2.0
PRODID:-//ChamberMaster//Event Calendar 2.0//EN
METHOD:PUBLISH
X-PUBLISHED-TTL:P3D
REFRESH-INTERVAL:P3D
CALSCALE:GREGORIAN
BEGIN:VEVENT
DTSTART:20180923T150000Z
DTEND:20180923T220000Z
X-MICROSOFT-CDO-ALLDAYEVENT:FALSE
SUMMARY:Gateway Industries 26th Annual Doug Maloney Memorial Golf Tournament
DESCRIPTION:Grab your favorite foursome and join us on Sunday September 23\, 2018 for a day of fun and sport. Four person Scramble Format Shotgun starts at 11 a.m. -- 18 holes Continental breakfast\, Snack bag in the cart and Dinner Great Awards and Fabulous Prizes!!!
X-ALT-DESC;FMTTYPE=text/html:Grab your favorite foursome and join us on Sunday September 23\, 2018 for a day of fun and sport. Four person Scramble Format Shotgun starts at 11 a.m. -- 18 holes Continental breakfast\, Snack bag in the cart and Dinner Great Awards and Fabulous Prizes!!!
LOCATION:Apple Green Golf Course 161 South St. Highland\, NY 12528
UID:e.2770.10477849
SEQUENCE:3
DTSTAMP:20260425T131739Z
URL:https://business.dcrcoc.org/events/details/gateway-industries-26th-annual-doug-maloney-memorial-golf-tournament-10477849
END:VEVENT

END:VCALENDAR
