BEGIN:VCALENDAR
VERSION:2.0
PRODID:-//ChamberMaster//Event Calendar 2.0//EN
METHOD:PUBLISH
X-PUBLISHED-TTL:P3D
REFRESH-INTERVAL:P3D
CALSCALE:GREGORIAN
BEGIN:VEVENT
DTSTART:20191216T233000Z
DTEND:20191217T010000Z
X-MICROSOFT-CDO-ALLDAYEVENT:FALSE
SUMMARY:Get MWBE Certified Now!
DESCRIPTION:NY spends about $6.7 billion on goods and services each year.  With a 30% goal for MWBEs.  Be part of that 30%.  Get certified today! \n\n\n\nIn this workshop\, attendees will learn: \n\n\n	\n	What is MWBE Certification?\n	\n	\n	The benefits of certification\n	\n	\n	Am I eligible to apply?\n	\n	\n	What is the certification process?\n	\n	\n	How do I get expedited?
X-ALT-DESC;FMTTYPE=text/html:<p><span style="font-size:16px">NY spends about $6.7 billion on goods and services each year.&nbsp\; With a 30% goal for MWBEs.&nbsp\; Be part of that 30%.&nbsp\; Get certified today!&nbsp\;<br />\n<br />\nIn this workshop\, attendees will learn:&nbsp\;</span></p>\n\n<ul>\n	<li>\n	<p><span style="font-size:16px">What is MWBE Certification?</span></p>\n	</li>\n	<li>\n	<p><span style="font-size:16px">The benefits of certification</span></p>\n	</li>\n	<li>\n	<p><span style="font-size:16px">Am I eligible to apply?</span></p>\n	</li>\n	<li>\n	<p><span style="font-size:16px">What is the certification process?</span></p>\n	</li>\n	<li>\n	<p><span style="font-size:16px">How do I get expedited?</span></p>\n	</li>\n</ul>\n
LOCATION:BEAHIVE Beacon 291 Main Street Beacon\, NY 12508
UID:e.2770.10482509
SEQUENCE:3
DTSTAMP:20260422T150535Z
URL:https://business.dcrcoc.org/events/details/get-mwbe-certified-now-10482509
END:VEVENT

END:VCALENDAR
