BEGIN:VCALENDAR
VERSION:2.0
PRODID:-//ChamberMaster//Event Calendar 2.0//EN
METHOD:PUBLISH
X-PUBLISHED-TTL:P3D
REFRESH-INTERVAL:P3D
CALSCALE:GREGORIAN
BEGIN:VEVENT
DTSTART:20180828T220000Z
DTEND:20180829T000000Z
X-MICROSOFT-CDO-ALLDAYEVENT:FALSE
SUMMARY:Get to your First Million in Sales
DESCRIPTION:Get to your first Million in Sales! Operation Strategies are key. This workshop will provide a strategy to guide your business toward a secure\, stable\, and profitable future.\n\n\n\n  Operations   How does it fit in with my needs?\n\n  Company (Corporate) Culture\n\n  Activities to make business planning easier\n\n  Process Improvement\n\n  Strategy to drive toward a profitable future
X-ALT-DESC;FMTTYPE=text/html:<span style="background-color:rgb(245\, 248\, 250)\; color:rgb(20\, 23\, 26)\; font-family:segoe ui\,arial\,sans-serif\; font-size:14px">Get to your first Million in Sales! Operation Strategies are key. This workshop will provide a strategy to guide your business toward a secure\, stable\, and profitable future.</span><br />\n<br />\n<span style="font-size:14px"><span style="font-family:symbol">&middot\;</span>&nbsp\;<span style="font-family:calibri">Operations &ndash\; How does it fit in with my needs?</span><br />\n<span style="font-family:symbol">&middot\;</span>&nbsp\;<span style="font-family:calibri">Company (Corporate) Culture</span><br />\n<span style="font-family:symbol">&middot\;</span>&nbsp\;<span style="font-family:calibri">Activities to make business planning easier</span><br />\n<span style="font-family:symbol">&middot\;</span>&nbsp\;<span style="font-family:calibri">Process Improvement</span><br />\n<span style="font-family:symbol">&middot\;</span>&nbsp\;<span style="font-family:calibri">Strategy to drive toward a profitable future</span></span><br />\n&nbsp\;
LOCATION:WEDC / Think Dutchess Alliance for Business Offices 3 Neptune Road Suite A21 - Poughkeepsie - NY - 12601
UID:e.2770.10479287
SEQUENCE:3
DTSTAMP:20260425T144303Z
URL:https://business.dcrcoc.org/events/details/get-to-your-first-million-in-sales-10479287
END:VEVENT

END:VCALENDAR
