BEGIN:VCALENDAR
VERSION:2.0
PRODID:-//ChamberMaster//Event Calendar 2.0//EN
METHOD:PUBLISH
X-PUBLISHED-TTL:P3D
REFRESH-INTERVAL:P3D
CALSCALE:GREGORIAN
BEGIN:VEVENT
DTSTART:20191007T220000Z
DTEND:20191008T010000Z
X-MICROSOFT-CDO-ALLDAYEVENT:FALSE
SUMMARY:Getting Down With Your Data
DESCRIPTION:In this workshop we will explore the world of business information.\n\n\n\nTopics to be covered: \n\n\n	What is business information?\n	What are Key Performance Indicators (KPIs) and why do they matter?\n	How to collect information\, what to collect\, and when to collect it\n	Data security and industry compliance\n	Core information systems that most businesses need\n\n\n\n\nAttendee take-away:\n\n\n	Develop a deeper understanding of\, and appreciation for\, your business information\n	Identify the information that matters most to your business\n	Know how to identify and evaluate systems that will work best for you\n\n\nThe Secret To Finding Information Systems That Work For You!
X-ALT-DESC;FMTTYPE=text/html:<p><span style="font-size:16px">In this workshop we will explore the world of business information.<br />\n<br />\n<strong><u>Topics to be covered:&nbsp\;</u></strong></span></p>\n\n<ul>\n	<li><span style="font-size:16px">What is business information?</span></li>\n	<li><span style="font-size:16px">What are Key Performance Indicators (KPIs) and why do they matter?</span></li>\n	<li><span style="font-size:16px"><span style="font-size:16px">How to collect information\, what to collect\, and when to collect it</span></span></li>\n	<li><span style="font-size:16px"><span style="font-size:16px"><span style="font-size:16px">Data security and industry compliance</span></span></span></li>\n	<li><span style="font-size:16px"><span style="font-size:16px"><span style="font-size:16px"><span style="font-size:16px">Core information systems that most businesses need</span></span></span></span></li>\n</ul>\n\n<p><br />\n<span style="font-size:16px"><u><strong>Attendee take-away:</strong></u></span></p>\n\n<ul>\n	<li><span style="font-size:16px">Develop a deeper understanding of\, and appreciation for\, your business information</span></li>\n	<li><span style="font-size:16px">Identify the information that matters most to your business</span></li>\n	<li><span style="font-size:16px"><span style="font-size:16px">Know how to identify and evaluate systems that will work best for you</span></span></li>\n</ul>\n\n<p style="text-align:center"><span style="font-size:16px"><strong>The Secret To Finding Information Systems That Work For You!</strong></span></p>\n
LOCATION:Think Dutchess 3 Neptune Rd. Suite A21 Poughkeepsie\, NY 12601
UID:e.2770.10481034
SEQUENCE:3
DTSTAMP:20260422T182706Z
URL:https://business.dcrcoc.org/events/details/getting-down-with-your-data-10481034
END:VEVENT

END:VCALENDAR
