BEGIN:VCALENDAR
VERSION:2.0
PRODID:-//ChamberMaster//Event Calendar 2.0//EN
METHOD:PUBLISH
X-PUBLISHED-TTL:P3D
REFRESH-INTERVAL:P3D
CALSCALE:GREGORIAN
BEGIN:VEVENT
DTSTART:20180128T013000Z
DTEND:20180128T043000Z
X-MICROSOFT-CDO-ALLDAYEVENT:FALSE
SUMMARY:Fourthfret debuts at The Alley Kat!
DESCRIPTION:We are excited to host the Hudson Valley's new and exciting band FourthFret! Stop by for 14 varieties of beer on tap\, yummy food and the smooth\, styling sounds of FourthFret!\nCheck out the event details on our Facebook page:\n\nFouthfred debuts at The Alley Kat!
X-ALT-DESC;FMTTYPE=text/html:<p><span style="color:rgb(75\, 79\, 86)\; font-family:system-ui\,-apple-system\,blinkmacsystemfont\,.sfnstext-regular\,sans-serif\; font-size:14px">We are excited to host the Hudson Valley&#39\;s new and exciting band FourthFret! Stop by for 14 varieties of beer on tap\, yummy food and the smooth\, styling sounds of FourthFret!</span></p>\nCheck out the event details on our Facebook page:<br />\n<a href="https://www.facebook.com/events/1985218195052858/">Fouthfred debuts at The Alley Kat!</a>\n\n<h1>&nbsp\;</h1>\n
LOCATION:The Alley Kat 1677 US 9 Wappingers Falls\, New York\, NY 12590
UID:e.2770.10476690
SEQUENCE:3
DTSTAMP:20260425T232307Z
URL:https://business.dcrcoc.org/events/details/ghost-river-gypsy-returns-to-the-alley-kat-10476690
END:VEVENT

END:VCALENDAR
