BEGIN:VCALENDAR
VERSION:2.0
PRODID:-//ChamberMaster//Event Calendar 2.0//EN
METHOD:PUBLISH
X-PUBLISHED-TTL:P3D
REFRESH-INTERVAL:P3D
CALSCALE:GREGORIAN
BEGIN:VEVENT
DTSTART:20171027T223000Z
DTEND:20171028T010000Z
X-MICROSOFT-CDO-ALLDAYEVENT:FALSE
SUMMARY:Ghoul's Night Out - Murder Mystery Dinner and Cancer Fundraiser
DESCRIPTION:Ghoul's Night Out is a Halloween Themed Interactive Murder Mystery Dinner. $15 of every ticket purchased will benefit the American Cancer Society. Attendees are invited to dress up in their costumes.
X-ALT-DESC;FMTTYPE=text/html:Ghoul&#39\;s Night Out is a Halloween Themed Interactive Murder Mystery Dinner. $15 of every ticket purchased will benefit the American Cancer Society. Attendees are invited to dress up in their costumes.
LOCATION:Clove Creek Dinner Theater 18 Westage Business Center Drive Fishkill\, NY
UID:e.2770.10476348
SEQUENCE:3
DTSTAMP:20260426T033651Z
URL:https://business.dcrcoc.org/events/details/ghoul-s-night-out-murder-mystery-dinner-and-cancer-fundraiser-10476348
END:VEVENT

END:VCALENDAR
