BEGIN:VCALENDAR
VERSION:2.0
PRODID:-//ChamberMaster//Event Calendar 2.0//EN
METHOD:PUBLISH
X-PUBLISHED-TTL:P3D
REFRESH-INTERVAL:P3D
CALSCALE:GREGORIAN
BEGIN:VEVENT
DTSTART:20180109T223000Z
DTEND:20180110T003000Z
X-MICROSOFT-CDO-ALLDAYEVENT:FALSE
SUMMARY:GIRLS' NIGHT OUT
DESCRIPTION:Join us for a night of celebration as we raise funds for the WMCHealth Heart and Vascular Institute at MidHudson Regional Hospital.\n\nThis is your special night\, ladies! Put March 1\, 2018 on your calendar today!\n\nCome as a group\; ask your friends to join you at this worthy\, memorable evening!\n\nHere's just the beginning of the fun that's in store!\n\n\n	Splurge in our eclectic shopping suite\n	Renew\, refresh and refocus with our mini-makeovers\n	Be in it to win it! Try your luck with our raffles!\n	Savor a delectable meal\n	Enjoy the zany one-liners of our comedian\n	Get vaLuable heart-health insights from our doctors\n	Take home a special gift $65 for the public ($50 for MidHudson Regional Hospital staff)\n\n\nWhen: March 1\, 2018 - 5:30PM \n\nWhere: Poughkeepsie Grand Hotel\, 40 Civic Center Plaza\, Poughkeepsie\n\n914.493.5787
X-ALT-DESC;FMTTYPE=text/html:<p style="margin: 0px 0px 20px\; line-height: 18.144px\; color: rgb(128\, 128\, 128)\; font-family: Arial\, Helvetica\, sans-serif\; font-size: 12.96px\; background-color: rgb(255\, 255\, 255)\;"><span style="color:#000000\;"><span style="font-size: 12.1104px\; font-family: Verdana\, Arial\, Helvetica\, sans-serif\;">Join us for a night of celebration as we raise funds for the WMCHealth Heart and Vascular Institute at MidHudson Regional Hospital.</span></span></p>\n\n<p style="margin: 0px 0px 20px\; line-height: 18.144px\; color: rgb(128\, 128\, 128)\; font-family: Arial\, Helvetica\, sans-serif\; font-size: 12.96px\; background-color: rgb(255\, 255\, 255)\;"><span style="color:#000000\;">This is your special night\, ladies! Put March 1\, 2018 on your calendar today!</span></p>\n\n<p style="margin: 0px 0px 20px\; line-height: 18.144px\; color: rgb(128\, 128\, 128)\; font-family: Arial\, Helvetica\, sans-serif\; font-size: 12.96px\; background-color: rgb(255\, 255\, 255)\;"><span style="color:#000000\;">Come as a group\; ask your friends to join you at this worthy\, memorable evening!</span></p>\n\n<p style="margin: 0px 0px 20px\; line-height: 18.144px\; color: rgb(128\, 128\, 128)\; font-family: Arial\, Helvetica\, sans-serif\; font-size: 12.96px\; background-color: rgb(255\, 255\, 255)\;"><span style="color:#000000\;">Here&rsquo\;s just the beginning of the fun that&rsquo\;s in store!</span></p>\n\n<ul style="line-height: 16.848px\; margin: 10px 0px\; overflow: hidden\; color: rgb(128\, 128\, 128)\; font-family: Arial\, Helvetica\, sans-serif\; font-size: 12.96px\; background-color: rgb(255\, 255\, 255)\;">\n	<li style="margin: 0px 0px 10px\;"><span style="color:#000000\;">Splurge in our eclectic shopping suite</span></li>\n	<li style="margin: 0px 0px 10px\;"><span style="color:#000000\;">Renew\, refresh and refocus with our mini-makeovers</span></li>\n	<li style="margin: 0px 0px 10px\;"><span style="color:#000000\;">Be in it to win it! Try your luck with our raffles!</span></li>\n	<li style="margin: 0px 0px 10px\;"><span style="color:#000000\;">Savor a delectable meal</span></li>\n	<li style="margin: 0px 0px 10px\;"><span style="color:#000000\;">Enjoy the zany one-liners of our comedian</span></li>\n	<li style="margin: 0px 0px 10px\;"><span style="color:#000000\;">Get vaLuable heart-health insights from our doctors</span></li>\n	<li class="last" style="margin: 0px 0px 10px\;"><span style="color:#000000\;">Take home a special gift $65 for the public ($50 for MidHudson Regional Hospital staff)</span></li>\n</ul>\n\n<div class="last" style="margin: 0px 0px 10px\;"><span style="color:#000000\;"><strong style="font-size: 12.96px\; color: rgb(128\, 128\, 128)\; font-family: Arial\, Helvetica\, sans-serif\; background-color: rgb(255\, 255\, 255)\;">When:&nbsp\;</strong><span style="font-family: Arial\, Helvetica\, sans-serif\; font-size: 12.96px\; background-color: rgb(255\, 255\, 255)\;">March 1\,</span><strong style="font-size: 12.96px\; color: rgb(128\, 128\, 128)\; font-family: Arial\, Helvetica\, sans-serif\; background-color: rgb(255\, 255\, 255)\;">&nbsp\;</strong><span style="font-family: Arial\, Helvetica\, sans-serif\; font-size: 12.96px\; background-color: rgb(255\, 255\, 255)\;">2018 - 5:30PM&nbsp\;</span><br style="color: rgb(128\, 128\, 128)\; font-family: Arial\, Helvetica\, sans-serif\; font-size: 12.96px\; background-color: rgb(255\, 255\, 255)\;" />\n<strong style="font-size: 12.96px\; color: rgb(128\, 128\, 128)\; font-family: Arial\, Helvetica\, sans-serif\; background-color: rgb(255\, 255\, 255)\;">Where:&nbsp\;</strong><span style="font-family: Arial\, Helvetica\, sans-serif\; font-size: 12.96px\; background-color: rgb(255\, 255\, 255)\;">Poughkeepsie Grand Hotel\, 40 Civic Center Plaza\, Poughkeepsie</span></span><br />\n<span style="color:#000000\;"><span style="font-family: Arial\, Helvetica\, sans-serif\; font-size: 12.96px\; background-color: rgb(255\, 255\, 255)\;">914.493.5787</span></span></div>\n
LOCATION:
UID:e.2770.10476671
SEQUENCE:3
DTSTAMP:20260425T232443Z
URL:https://business.dcrcoc.org/events/details/girls-night-out-01-09-2018-10476671
END:VEVENT

END:VCALENDAR
