BEGIN:VCALENDAR
VERSION:2.0
PRODID:-//ChamberMaster//Event Calendar 2.0//EN
METHOD:PUBLISH
X-PUBLISHED-TTL:P3D
REFRESH-INTERVAL:P3D
CALSCALE:GREGORIAN
BEGIN:VEVENT
DTSTART:20180801T150000Z
DTEND:20180801T190000Z
X-MICROSOFT-CDO-ALLDAYEVENT:FALSE
SUMMARY:Give Blood. Help Save Lives with the American Red Cross at Orthopedic Associates!
DESCRIPTION:Did you know that every two seconds someone in the U.S. needs blood? It is essential for surgeries\, cancer treatment\, chronic illness and traumatic injuries. We're teaming up with the American Red Cross to host a blood drive to save lives! Whether a patient receives whole blood\, red cells\, platelets or plasma\, this lifesaving care starts with one person making a generous donation.\n\nTo schedule an appointment please call 1-800- RED CROSS (1-800-733-2767) or visit redcrossblood.org and use sponsor code: Orthopedic\n\n \n\nDouble Red Donors Welcome at this Drive. Walk-ins Welcome! New Donors Needed!
X-ALT-DESC;FMTTYPE=text/html:Did you know that every two seconds someone in the U.S. needs blood? It is essential for surgeries\, cancer treatment\, chronic illness and traumatic injuries. We&rsquo\;re teaming up with the American Red Cross to host a blood drive to save lives! Whether a patient receives whole blood\, red cells\, platelets or plasma\, this lifesaving care starts with one person making a generous donation.<br />\nTo schedule an appointment please call 1-800- RED CROSS (1-800-733-2767) or visit redcrossblood.org and use sponsor code: Orthopedic<br />\n&nbsp\;<br />\nDouble Red Donors Welcome at this Drive. Walk-ins Welcome! New Donors Needed!
LOCATION:Orthopedic Associates of Dutchess County 1910 South Road\, Poughkeepsie\, NY 12601
UID:e.2770.10479323
SEQUENCE:3
DTSTAMP:20260425T144728Z
URL:https://business.dcrcoc.org/events/details/give-blood-help-save-lives-with-the-american-red-cross-at-orthopedic-associates-08-01-2018-10479323
END:VEVENT

END:VCALENDAR
