BEGIN:VCALENDAR
VERSION:2.0
PRODID:-//ChamberMaster//Event Calendar 2.0//EN
METHOD:PUBLISH
X-PUBLISHED-TTL:P3D
REFRESH-INTERVAL:P3D
CALSCALE:GREGORIAN
BEGIN:VEVENT
DTSTART:20171109T150000Z
DTEND:20171109T190000Z
X-MICROSOFT-CDO-ALLDAYEVENT:FALSE
SUMMARY:Go Red for Women Luncheon
DESCRIPTION:Go Red Luncheons are wonderful social events where women dedicated to making an impact in their community come together to raise awareness\, educate and fund raise. Events typically include workshops\, health screenings\, a silent auction and a keynote speaker. Attend our awareness event to learn about saving lives from heart disease and stroke including your own.
X-ALT-DESC;FMTTYPE=text/html:Go Red Luncheons are wonderful social events where women dedicated to making an impact in their community come together to raise awareness\, educate and fund raise. Events typically include workshops\, health screenings\, a silent auction and a keynote speaker. Attend our awareness event to learn about saving lives from heart disease and stroke&hellip\;including your own.
LOCATION:The Grandview\, 176 Rinaldi Blvd.\, Poughkeepsie\, NY 12601
UID:e.2770.10475985
SEQUENCE:3
DTSTAMP:20260426T033448Z
URL:https://business.dcrcoc.org/events/details/go-red-for-women-luncheon-11-09-2017-10475985
END:VEVENT

END:VCALENDAR
