BEGIN:VCALENDAR
VERSION:2.0
PRODID:-//ChamberMaster//Event Calendar 2.0//EN
METHOD:PUBLISH
X-PUBLISHED-TTL:P3D
REFRESH-INTERVAL:P3D
CALSCALE:GREGORIAN
BEGIN:VEVENT
DTSTART:20171118T200000Z
DTEND:20171118T233000Z
X-MICROSOFT-CDO-ALLDAYEVENT:FALSE
SUMMARY:Thanksgiving Tasting at Marta's Vineyard! Gobble! Gobble! Gobble!
DESCRIPTION:It's hard to soar like an Eagle when you are surrounded by Turkeys! Wait\, don't we want to be surrounded by Turkeys in November? Sweet potatoes\, apple pie\, cranberry sauce\, gravy\, and of course\, the bird! \n\nMarta will pair these wines with small bites of Thanksgiving food. Come in to taste\, and find out what will work best to highlight your Thanksgiving meal!\n\nSample 6 wines that will pair perfectly to complement every course of your Turkey Day dinner.\n\n	Renwood Zinfandel 2015\n	Renwood Old Vine Zinfandel Reserve 2014\n	Paraiso Pinot Noir 2014\n	Don David Malbec Reserve 2015\n	Lamberti Prosecco\n	Hans Richter Riesling 2015\n\nHelp us help you make your Thanksgiving perfect by picking up a fine bottle  or two   or thee or four \n\nAt Marta's Vineyard!
X-ALT-DESC;FMTTYPE=text/html:<em>&nbsp\;It&rsquo\;s hard to soar like an Eagle when you are surrounded by Turkeys! Wait\, don&rsquo\;t we want to be surrounded by Turkeys in November? Sweet potatoes\, apple pie\, cranberry sauce\, gravy\, and of course\, the bird! </em><br />\nMarta will pair these wines with small bites of Thanksgiving food. Come in to taste\, and find out what will work best to highlight <strong><em>your</em></strong> Thanksgiving meal!<br />\nSample 6 wines that will pair perfectly to complement every course of your Turkey Day dinner.\n<ul>\n	<li>Renwood Zinfandel 2015</li>\n	<li>Renwood Old Vine Zinfandel Reserve 2014</li>\n	<li>Paraiso Pinot Noir 2014</li>\n	<li>Don David Malbec Reserve 2015</li>\n	<li>Lamberti Prosecco</li>\n	<li>Hans Richter Riesling 2015</li>\n</ul>\nHelp us help you make your Thanksgiving perfect by picking up a fine bottle &ndash\;or two &ndash\; or thee or four&hellip\;<br />\nAt Marta&rsquo\;s Vineyard!
LOCATION:
UID:e.2770.10476605
SEQUENCE:3
DTSTAMP:20260426T020322Z
URL:https://business.dcrcoc.org/events/details/gobble-gobble-gobble-10476605
END:VEVENT

END:VCALENDAR
