BEGIN:VCALENDAR
VERSION:2.0
PRODID:-//ChamberMaster//Event Calendar 2.0//EN
METHOD:PUBLISH
X-PUBLISHED-TTL:P3D
REFRESH-INTERVAL:P3D
CALSCALE:GREGORIAN
BEGIN:VEVENT
DTSTART:20171029T150000Z
DTEND:20171029T190000Z
X-MICROSOFT-CDO-ALLDAYEVENT:FALSE
SUMMARY:Grace Pumpkin Parade and Costume Contest
DESCRIPTION:Benefit to help end bullying and abuse in the community during Domestic Violence Awarness Month. Proceeds go towards Grace Smith House\, Inc. Home shouldn't be a scary place.
X-ALT-DESC;FMTTYPE=text/html:Benefit to help end bullying and abuse in the community during Domestic Violence Awarness Month. Proceeds go towards Grace Smith House\, Inc. Home shouldn&#39\;t be a scary place.
LOCATION:Pulaski Park
UID:e.2770.10476084
SEQUENCE:3
DTSTAMP:20260426T033443Z
URL:https://business.dcrcoc.org/events/details/grace-pumpkin-parade-and-costume-contest-10476084
END:VEVENT

END:VCALENDAR
