BEGIN:VCALENDAR
VERSION:2.0
PRODID:-//ChamberMaster//Event Calendar 2.0//EN
METHOD:PUBLISH
X-PUBLISHED-TTL:P3D
REFRESH-INTERVAL:P3D
CALSCALE:GREGORIAN
BEGIN:VEVENT
DTSTART:20190302T023000Z
DTEND:20190302T043000Z
X-MICROSOFT-CDO-ALLDAYEVENT:FALSE
SUMMARY:Grammy Nominated Comedian\, Jim Gaffigan - Quality Time Tour
DESCRIPTION:Jim Gaffigan is a three-time Grammy nominated comedian\, actor\, writer\, producer\, two-time New York Times best-selling author\, Emmy winning top touring performer\, and multi-platinum-selling recording artist. He is known around the world for his unique brand of humor\, which largely revolves around his observations on life.
X-ALT-DESC;FMTTYPE=text/html:Jim Gaffigan is a three-time Grammy nominated comedian\, actor\, writer\, producer\, two-time New York Times best-selling author\, Emmy winning top touring performer\, and multi-platinum-selling recording artist. He is known around the world for his unique brand of humor\, which largely revolves around his observations on life.
LOCATION:Mid Hudson Civic Center 14 Civic Center Plaza Poughkeepsie\, NY 12601
UID:e.2770.10479946
SEQUENCE:3
DTSTAMP:20260423T081949Z
URL:https://business.dcrcoc.org/events/details/grammy-nominated-comedian-jim-gaffigan-quality-time-tour-10479946
END:VEVENT

END:VCALENDAR
