BEGIN:VCALENDAR
VERSION:2.0
PRODID:-//ChamberMaster//Event Calendar 2.0//EN
METHOD:PUBLISH
X-PUBLISHED-TTL:P3D
REFRESH-INTERVAL:P3D
CALSCALE:GREGORIAN
BEGIN:VEVENT
DTSTART:20180412T160000Z
DTEND:20180413T180000Z
X-MICROSOFT-CDO-ALLDAYEVENT:FALSE
SUMMARY:Grand Opening Celebration
DESCRIPTION:Join us for our Retail Store Grand Opening Celebration! \n\n\n\nThursday\, April 12 from Noon - 4pm\n\nFriday\, April 13 from 9am - 2pm\n\n\n\nThere will be food\, giveaways\, vendor demonstrations! See flyer for more information!
X-ALT-DESC;FMTTYPE=text/html:Join us for our Retail Store Grand Opening Celebration!&nbsp\;<br />\n<br />\nThursday\, April 12 from Noon - 4pm<br />\nFriday\, April 13 from 9am - 2pm<br />\n<br />\nThere will be food\, giveaways\, vendor demonstrations! See flyer for more information!
LOCATION:Grade Industrial Supply 1418 Route 9D Wappingers Falls\, NY 12590
UID:e.2770.10477607
SEQUENCE:3
DTSTAMP:20260425T194845Z
URL:https://business.dcrcoc.org/events/details/grand-opening-celebration-10477607
END:VEVENT

END:VCALENDAR
