BEGIN:VCALENDAR
VERSION:2.0
PRODID:-//ChamberMaster//Event Calendar 2.0//EN
METHOD:PUBLISH
X-PUBLISHED-TTL:P3D
REFRESH-INTERVAL:P3D
CALSCALE:GREGORIAN
BEGIN:VEVENT
DTSTART:20180915T150000Z
DTEND:20180915T200000Z
X-MICROSOFT-CDO-ALLDAYEVENT:FALSE
SUMMARY:Grand Opening Celebration of New Model at The Gardens at Rhinebeck
DESCRIPTION:Rhinebeck New York's luxury condominium community\, The Gardens at Rhinebeck\, is hosting a grand opening on September 15th with a ribbon cutting/VIP reception at 11 am followed by an open house from noon to 4 pm.  Prospective homebuyers\, elected officials\, local business owners\, and residents are all invited to celebrate the Arlington & Beacon models now for sale.  \n\n \n\nBuilders David Silver and Joe Kirchoff invite you to The Gardens at Rhinebeck Phase 3 being built and sold now with only 49 units left! The final phase of The Gardens at Rhinebeck offers two distinctive high-end luxury floorplans. \n\n\n\nThe single level Arlington is 2\,134 square feet of living space with two bedrooms\, two full baths and a 387 square foot garage. The Beacon\, a duplex townhome\, offers 2\,334 square feet of living space that includes two bedrooms\, two full bathrooms\, a half bath and den with a master bedroom suite on the first floor\, and a 397 square foot garage. These homes are priced starting at $539\,000.
X-ALT-DESC;FMTTYPE=text/html:<br />\n<span style="font-size:11.0pt">Rhinebeck New York&rsquo\;s luxury condominium community\, <strong><em>The Gardens at Rhinebeck\,</em></strong> is hosting a grand opening on September 15th with a ribbon cutting/VIP reception at 11 am followed by an open house from noon to 4 pm.&nbsp\; Prospective homebuyers\, elected officials\, local business owners\, and residents are all invited to celebrate the Arlington &amp\; Beacon models now for sale.&nbsp\; </span><br />\n&nbsp\;<br />\n<span style="font-size:11.0pt">Builders David Silver and Joe Kirchoff invite you to The Gardens at Rhinebeck Phase 3 being built and sold now with only 49 units left!&nbsp\;</span><span style="font-size:11.0pt">The final phase of The Gardens at Rhinebeck offers two distinctive high-end luxury floorplans.&nbsp\;<br />\n<br />\nThe single level Arlington is 2\,134 square feet of living space with two bedrooms\, two full baths and a 387 square foot garage. The Beacon\, a duplex townhome\, offers 2\,334 square feet of living space that includes two bedrooms\, two full bathrooms\, a half bath and den with a master bedroom suite on the first floor\, and a 397 square foot garage. These homes are priced starting at $539\,000.</span>
LOCATION:2 Sunflower Place\, Rhinebeck\, NY. 12572
UID:e.2770.10479699
SEQUENCE:3
DTSTAMP:20260425T131842Z
URL:https://business.dcrcoc.org/events/details/grand-opening-celebration-of-new-model-at-the-gardens-at-rhinebeck-10479699
END:VEVENT

END:VCALENDAR
