BEGIN:VCALENDAR
VERSION:2.0
PRODID:-//ChamberMaster//Event Calendar 2.0//EN
METHOD:PUBLISH
X-PUBLISHED-TTL:P3D
REFRESH-INTERVAL:P3D
CALSCALE:GREGORIAN
BEGIN:VEVENT
DTSTART:20200502T170000Z
DTEND:20200502T210000Z
X-MICROSOFT-CDO-ALLDAYEVENT:FALSE
SUMMARY:Grand Spring Hard Cider Event
DESCRIPTION:Check out some of the fresh spring flavors in hard cider at our free indoor event at the store awarded the best cider partner on the East Coast by the American Cider Association! With over 50 hard ciders to taste\, including 13 on tap for growler fills\, this is an event that is a must for any cider lover! Featuring ciders from the Hudson Valley\, to Long Island to around the world\, there is something for every taste. Bring your own 32 or 64 oz growler or purchase one on site for growler fills. Or\, choose from cans and bottles of ciders\, all available for purchase on site day of\, or in the future! There will be sweet\, dry\, fruited\, bubbly\, organic\, still and many other types of cider. There will be several cider makers on hand as well to answer questions! Located at 18 Westage Drive\, Fishkill. 1/4 mile north of I-84 off of Route 9\, behind Boston Market Fishkill\, next to Hudson Buffet\, near Walmart Fishkill. Plenty of free parking\, free admission and a free tasting. Must be 21+ with valid ID to enter.
X-ALT-DESC;FMTTYPE=text/html:Check out some of the fresh spring flavors in hard cider at our free indoor event at the store awarded the best cider partner on the East Coast by the American Cider Association! With over 50 hard ciders to taste\, including 13 on tap for growler fills\, this is an event that is a must for any cider lover! Featuring ciders from the Hudson Valley\, to Long Island to around the world\, there is something for every taste. Bring your own 32 or 64 oz growler or purchase one on site for growler fills. Or\, choose from cans and bottles of ciders\, all available for purchase on site day of\, or in the future! There will be sweet\, dry\, fruited\, bubbly\, organic\, still and many other types of cider. There will be several cider makers on hand as well to answer questions! Located at 18 Westage Drive\, Fishkill. 1/4 mile north of I-84 off of Route 9\, behind Boston Market Fishkill\, next to Hudson Buffet\, near Walmart Fishkill. Plenty of free parking\, free admission and a free tasting. Must be 21+ with valid ID to enter.
LOCATION:18 Westage Drive\, Fishkill\, located 1/4 mile north of I-84\, off of Rt 9\, behind Boston Market\, next to Hudson Buffet.
UID:e.2770.10483227
SEQUENCE:3
DTSTAMP:20260422T063616Z
URL:https://business.dcrcoc.org/events/details/grand-spring-hard-cider-event-10483227
END:VEVENT

END:VCALENDAR
