BEGIN:VCALENDAR
VERSION:2.0
PRODID:-//ChamberMaster//Event Calendar 2.0//EN
METHOD:PUBLISH
X-PUBLISHED-TTL:P3D
REFRESH-INTERVAL:P3D
CALSCALE:GREGORIAN
BEGIN:VEVENT
DTSTART:20190609T140000Z
DTEND:20190609T170000Z
X-MICROSOFT-CDO-ALLDAYEVENT:FALSE
SUMMARY:Great Strides Poughkeepsie
DESCRIPTION:Great Strides is the CF Foundation's largest national\n\nfundraising event\, which continues to gain momentum\,\n\nyear after year\, generating over $35 million\n\nnationwide. Inspired by the difference the CF\n\nFoundation is making in the lives of those touched by\n\nthe disease\, tens of thousands of co-workers\, friends\,\n\nand family come together each year as one community\n\nfor one cause   to find a cure for cystic fibrosis.
X-ALT-DESC;FMTTYPE=text/html:Great Strides is the CF Foundation&rsquo\;s largest national<br />\nfundraising event\, which continues to gain momentum\,<br />\nyear after year\, generating over $35 million<br />\nnationwide. Inspired by the difference the CF<br />\nFoundation is making in the lives of those touched by<br />\nthe disease\, tens of thousands of co-workers\, friends\,<br />\nand family come together each year as one community<br />\nfor one cause &ndash\; to find a cure for cystic fibrosis.
LOCATION:Bowdoin Park 85 Sheafe Rd Wappingers Falls\, NY 12590
UID:e.2770.10480556
SEQUENCE:3
DTSTAMP:20260423T024828Z
URL:https://business.dcrcoc.org/events/details/great-strides-poughkeepsie-10480556
END:VEVENT

END:VCALENDAR
